BEGIN:VCALENDAR
VERSION:2.0
PRODID:-//  Maryland Kayaker - ECPv6.15.20//NONSGML v1.0//EN
CALSCALE:GREGORIAN
METHOD:PUBLISH
X-ORIGINAL-URL:https://md-kayaker.com
X-WR-CALDESC:Events for   Maryland Kayaker
REFRESH-INTERVAL;VALUE=DURATION:PT1H
X-Robots-Tag:noindex
X-PUBLISHED-TTL:PT1H
BEGIN:VTIMEZONE
TZID:America/New_York
BEGIN:DAYLIGHT
TZOFFSETFROM:-0500
TZOFFSETTO:-0400
TZNAME:EDT
DTSTART:20250309T070000
END:DAYLIGHT
BEGIN:STANDARD
TZOFFSETFROM:-0400
TZOFFSETTO:-0500
TZNAME:EST
DTSTART:20251102T060000
END:STANDARD
BEGIN:DAYLIGHT
TZOFFSETFROM:-0500
TZOFFSETTO:-0400
TZNAME:EDT
DTSTART:20260308T070000
END:DAYLIGHT
BEGIN:STANDARD
TZOFFSETFROM:-0400
TZOFFSETTO:-0500
TZNAME:EST
DTSTART:20261101T060000
END:STANDARD
BEGIN:DAYLIGHT
TZOFFSETFROM:-0500
TZOFFSETTO:-0400
TZNAME:EDT
DTSTART:20270314T070000
END:DAYLIGHT
BEGIN:STANDARD
TZOFFSETFROM:-0400
TZOFFSETTO:-0500
TZNAME:EST
DTSTART:20271107T060000
END:STANDARD
END:VTIMEZONE
BEGIN:VEVENT
DTSTART;VALUE=DATE:20260502
DTEND;VALUE=DATE:20260504
DTSTAMP:20260424T141131
CREATED:20250328T211848Z
LAST-MODIFIED:20250328T211848Z
UID:3016-1777680000-1777852799@md-kayaker.com
SUMMARY:Kentucky Derby Day
DESCRIPTION:
URL:https://md-kayaker.com/event/kentucky-derby-day-3/
LOCATION:MD
CATEGORIES:Holiday
END:VEVENT
BEGIN:VEVENT
DTSTART;VALUE=DATE:20260502
DTEND;VALUE=DATE:20260504
DTSTAMP:20260424T141131
CREATED:20260113T195927Z
LAST-MODIFIED:20260113T201356Z
UID:3696-1777680000-1777852799@md-kayaker.com
SUMMARY:Finding Your Way: Navigation Practicum
DESCRIPTION:This set of weekend classes will cover just about everything you need to know for on-water navigation and give you repeated opportunities to practice new skills in real life.  \nReview how to read a nautical chart and\, more importantly\, practice comparing what you see on the chart to what you are looking at while you’re on the water. The classes will include understanding aids to navigation\, using ranges\, how to measure distance\, the basics of the “rules of the road”\, and how to safely cross busy boat channels. Learn how to use a chart and compass together to plot a course and then follow that course to a specific location. \nWe will also challenge you with games that will test and stretch your navigation skills. One will be a team challenge that will require your team to follow a series of clues\, navigating from one place to another to reach the final goal. \nIf you have questions or want to reserve a spot in this course\, email Rick Wiebush at crosscurrentsseakayaking@gmail.com
URL:https://md-kayaker.com/event/finding-your-way-navigation-practicum/
LOCATION:Kent Island
CATEGORIES:Kayak Class
END:VEVENT
END:VCALENDAR