BEGIN:VCALENDAR
VERSION:2.0
PRODID:-//  Maryland Kayaker - ECPv6.15.20//NONSGML v1.0//EN
CALSCALE:GREGORIAN
METHOD:PUBLISH
X-WR-CALNAME:  Maryland Kayaker
X-ORIGINAL-URL:https://md-kayaker.com
X-WR-CALDESC:Events for   Maryland Kayaker
REFRESH-INTERVAL;VALUE=DURATION:PT1H
X-Robots-Tag:noindex
X-PUBLISHED-TTL:PT1H
BEGIN:VTIMEZONE
TZID:America/New_York
BEGIN:DAYLIGHT
TZOFFSETFROM:-0500
TZOFFSETTO:-0400
TZNAME:EDT
DTSTART:20250309T070000
END:DAYLIGHT
BEGIN:STANDARD
TZOFFSETFROM:-0400
TZOFFSETTO:-0500
TZNAME:EST
DTSTART:20251102T060000
END:STANDARD
BEGIN:DAYLIGHT
TZOFFSETFROM:-0500
TZOFFSETTO:-0400
TZNAME:EDT
DTSTART:20260308T070000
END:DAYLIGHT
BEGIN:STANDARD
TZOFFSETFROM:-0400
TZOFFSETTO:-0500
TZNAME:EST
DTSTART:20261101T060000
END:STANDARD
BEGIN:DAYLIGHT
TZOFFSETFROM:-0500
TZOFFSETTO:-0400
TZNAME:EDT
DTSTART:20270314T070000
END:DAYLIGHT
BEGIN:STANDARD
TZOFFSETFROM:-0400
TZOFFSETTO:-0500
TZNAME:EST
DTSTART:20271107T060000
END:STANDARD
END:VTIMEZONE
BEGIN:VEVENT
DTSTART;VALUE=DATE:20260627
DTEND;VALUE=DATE:20260629
DTSTAMP:20260424T154517
CREATED:20260113T195928Z
LAST-MODIFIED:20260113T201032Z
UID:3697-1782518400-1782691199@md-kayaker.com
SUMMARY:Paddle Smarter\, Not Harder: Women’s Skills Workshop
DESCRIPTION:This course is all about helping grow the women who have recently started in our sport and for those who may have been paddling for a while but have never had outstanding formal instruction. The women who did this course in previous years absolutely loved it! The class emphasizes the ways in which women can use proper technique\, better balance\, and a supportive learning environment to develop and enhance skill development. Learn how small women can keep up with the big boys\, or even leave them in the dust. Explore ways of using your body to facilitate assisted- and self-rescues\, and see how a lower center of gravity can be a huge\nadvantage in some aspects of paddling. This is all about paddling smarter\, not harder. \nThe classes on both days will be on flat\, calm water. On Saturday\, the focus will be on strokes. It will start with a review of the basics and emphasize effective use of the body to get maximum performance with minimum effort. \nSunday will be all about Recovery and Rescues. The focus is on ways to perform self and assisted rescues. The class will start with a review of the basics\, then we will work on different aspects of a rescue starting with boat maneuvering\, using your body to effectively perform an assisted rescue\, climbing back into a kayak using a variety of techniques\, plus a few more scenarios. There will be more fun\, more games and more laughs. \nThere will be housing options\, including renting a house in the historic Chestertown area. If you want to get a motel or rent your own Airbnb\, that’s fine too. In addition\, we will have some way of socializing on Saturday night. \nIf you have questions or want to reserve a spot in this course\, email Rick Wiebush at crosscurrentsseakayaking@gmail.com
URL:https://md-kayaker.com/event/paddle-smarter-not-harder-womens-skills-workshop/
LOCATION:Turners Creek\, Kent County MD\, Turners Creek Rd\, Kennedyville\, MD\, 21645
CATEGORIES:Kayak Class
END:VEVENT
END:VCALENDAR