BEGIN:VCALENDAR
VERSION:2.0
PRODID:-//  Maryland Kayaker - ECPv6.15.20//NONSGML v1.0//EN
CALSCALE:GREGORIAN
METHOD:PUBLISH
X-WR-CALNAME:  Maryland Kayaker
X-ORIGINAL-URL:https://md-kayaker.com
X-WR-CALDESC:Events for   Maryland Kayaker
REFRESH-INTERVAL;VALUE=DURATION:PT1H
X-Robots-Tag:noindex
X-PUBLISHED-TTL:PT1H
BEGIN:VTIMEZONE
TZID:America/New_York
BEGIN:DAYLIGHT
TZOFFSETFROM:-0500
TZOFFSETTO:-0400
TZNAME:EDT
DTSTART:20250309T070000
END:DAYLIGHT
BEGIN:STANDARD
TZOFFSETFROM:-0400
TZOFFSETTO:-0500
TZNAME:EST
DTSTART:20251102T060000
END:STANDARD
BEGIN:DAYLIGHT
TZOFFSETFROM:-0500
TZOFFSETTO:-0400
TZNAME:EDT
DTSTART:20260308T070000
END:DAYLIGHT
BEGIN:STANDARD
TZOFFSETFROM:-0400
TZOFFSETTO:-0500
TZNAME:EST
DTSTART:20261101T060000
END:STANDARD
BEGIN:DAYLIGHT
TZOFFSETFROM:-0500
TZOFFSETTO:-0400
TZNAME:EDT
DTSTART:20270314T070000
END:DAYLIGHT
BEGIN:STANDARD
TZOFFSETFROM:-0400
TZOFFSETTO:-0500
TZNAME:EST
DTSTART:20271107T060000
END:STANDARD
END:VTIMEZONE
BEGIN:VEVENT
DTSTART;VALUE=DATE:20260808
DTEND;VALUE=DATE:20260809
DTSTAMP:20260424T191210
CREATED:20260113T195928Z
LAST-MODIFIED:20260113T201118Z
UID:3698-1786147200-1786233599@md-kayaker.com
SUMMARY:Incident management
DESCRIPTION:This course will train participants in how to deal with situations in which – in spite of the assessed risks – things have gone very wrong. \nSometimes\, in spite of careful planning and risk assessment\, bad stuff happens. The situations that arise – and responding appropriately to them – will form the main part of this course. During a journey on the water\, various and multiple manufactured “incidents” will confront the group and will need to be dealt with by them. These may include relatively mild incidents like the paddler who wants to go off on her own\, or a lost hatch cover. They will also likely include more serious incidents like a capsized paddler who is unable to get back in his boat\, a lost paddler\, or a situation in which everyone in the group has capsized. \nThis course is on flat water\, but it will challenge you both physically and mentally. It will also deepen your understanding of how to prevent “incidents” and how to respond safely and creatively to them when they do happen. Both because and in spite of the above\, this course is also an incredible amount of fun! \nIf you have questions or want to reserve a spot in this course\, email Rick Wiebush at crosscurrentsseakayaking@gmail.com
URL:https://md-kayaker.com/event/incident-management-3/
LOCATION:Turners Creek\, Kent County MD\, Turners Creek Rd\, Kennedyville\, MD\, 21645
CATEGORIES:Kayak Class
END:VEVENT
END:VCALENDAR