BEGIN:VCALENDAR
VERSION:2.0
PRODID:-//  Maryland Kayaker - ECPv6.15.20//NONSGML v1.0//EN
CALSCALE:GREGORIAN
METHOD:PUBLISH
X-ORIGINAL-URL:https://md-kayaker.com
X-WR-CALDESC:Events for   Maryland Kayaker
REFRESH-INTERVAL;VALUE=DURATION:PT1H
X-Robots-Tag:noindex
X-PUBLISHED-TTL:PT1H
BEGIN:VTIMEZONE
TZID:America/New_York
BEGIN:DAYLIGHT
TZOFFSETFROM:-0500
TZOFFSETTO:-0400
TZNAME:EDT
DTSTART:20250309T070000
END:DAYLIGHT
BEGIN:STANDARD
TZOFFSETFROM:-0400
TZOFFSETTO:-0500
TZNAME:EST
DTSTART:20251102T060000
END:STANDARD
BEGIN:DAYLIGHT
TZOFFSETFROM:-0500
TZOFFSETTO:-0400
TZNAME:EDT
DTSTART:20260308T070000
END:DAYLIGHT
BEGIN:STANDARD
TZOFFSETFROM:-0400
TZOFFSETTO:-0500
TZNAME:EST
DTSTART:20261101T060000
END:STANDARD
BEGIN:DAYLIGHT
TZOFFSETFROM:-0500
TZOFFSETTO:-0400
TZNAME:EDT
DTSTART:20270314T070000
END:DAYLIGHT
BEGIN:STANDARD
TZOFFSETFROM:-0400
TZOFFSETTO:-0500
TZNAME:EST
DTSTART:20271107T060000
END:STANDARD
END:VTIMEZONE
BEGIN:VEVENT
DTSTART;VALUE=DATE:20260505
DTEND;VALUE=DATE:20260507
DTSTAMP:20260424T212649
CREATED:20250328T211848Z
LAST-MODIFIED:20250328T211848Z
UID:3017-1777939200-1778111999@md-kayaker.com
SUMMARY:National Teacher's Day
DESCRIPTION:
URL:https://md-kayaker.com/event/national-teachers-day-3/
CATEGORIES:Holiday
END:VEVENT
BEGIN:VEVENT
DTSTART;VALUE=DATE:20260505
DTEND;VALUE=DATE:20260507
DTSTAMP:20260424T212649
CREATED:20250328T211849Z
LAST-MODIFIED:20250328T211849Z
UID:3018-1777939200-1778111999@md-kayaker.com
SUMMARY:Cinco de Mayo
DESCRIPTION:
URL:https://md-kayaker.com/event/cinco-de-mayo-3/
CATEGORIES:Holiday
END:VEVENT
BEGIN:VEVENT
DTSTART;VALUE=DATE:20260517
DTEND;VALUE=DATE:20260519
DTSTAMP:20260424T212649
CREATED:20250328T211858Z
LAST-MODIFIED:20250328T211858Z
UID:3021-1778976000-1779148799@md-kayaker.com
SUMMARY:Mother's Day
DESCRIPTION:
URL:https://md-kayaker.com/event/mothers-day-3/
CATEGORIES:Holiday
END:VEVENT
BEGIN:VEVENT
DTSTART;VALUE=DATE:20260525
DTEND;VALUE=DATE:20260527
DTSTAMP:20260424T212649
CREATED:20250328T211859Z
LAST-MODIFIED:20250328T211859Z
UID:3023-1779667200-1779839999@md-kayaker.com
SUMMARY:Memorial Day
DESCRIPTION:
URL:https://md-kayaker.com/event/memorial-day-3/
CATEGORIES:Holiday
END:VEVENT
BEGIN:VEVENT
DTSTART;VALUE=DATE:20260529
DTEND;VALUE=DATE:20260531
DTSTAMP:20260424T212649
CREATED:20250328T211859Z
LAST-MODIFIED:20250328T211859Z
UID:3024-1780012800-1780185599@md-kayaker.com
SUMMARY:John F. Kennedy's Birthday
DESCRIPTION:
URL:https://md-kayaker.com/event/john-f-kennedys-birthday-3/
CATEGORIES:Holiday
END:VEVENT
BEGIN:VEVENT
DTSTART;VALUE=DATE:20260606
DTEND;VALUE=DATE:20260608
DTSTAMP:20260424T212649
CREATED:20250328T211905Z
LAST-MODIFIED:20250328T211905Z
UID:3026-1780704000-1780876799@md-kayaker.com
SUMMARY:D-Day
DESCRIPTION:
URL:https://md-kayaker.com/event/d-day-3/
CATEGORIES:Holiday
END:VEVENT
BEGIN:VEVENT
DTSTART;VALUE=DATE:20260614
DTEND;VALUE=DATE:20260616
DTSTAMP:20260424T212649
CREATED:20250328T211906Z
LAST-MODIFIED:20250328T211906Z
UID:3028-1781395200-1781567999@md-kayaker.com
SUMMARY:Flag Day
DESCRIPTION:
URL:https://md-kayaker.com/event/flag-day-3/
CATEGORIES:Holiday
END:VEVENT
BEGIN:VEVENT
DTSTART;VALUE=DATE:20260619
DTEND;VALUE=DATE:20260621
DTSTAMP:20260424T212649
CREATED:20250328T211906Z
LAST-MODIFIED:20250328T211906Z
UID:3030-1781827200-1781999999@md-kayaker.com
SUMMARY:Juneteenth
DESCRIPTION:
URL:https://md-kayaker.com/event/juneteenth-3/
CATEGORIES:Holiday
END:VEVENT
BEGIN:VEVENT
DTSTART;VALUE=DATE:20260621
DTEND;VALUE=DATE:20260623
DTSTAMP:20260424T212649
CREATED:20250328T211915Z
LAST-MODIFIED:20250328T211915Z
UID:3031-1782000000-1782172799@md-kayaker.com
SUMMARY:First Day of Summer
DESCRIPTION:
URL:https://md-kayaker.com/event/first-day-of-summer-3/
CATEGORIES:Holiday
END:VEVENT
BEGIN:VEVENT
DTSTART;VALUE=DATE:20260621
DTEND;VALUE=DATE:20260623
DTSTAMP:20260424T212649
CREATED:20250328T211915Z
LAST-MODIFIED:20250328T211915Z
UID:3032-1782000000-1782172799@md-kayaker.com
SUMMARY:Summer Solstice
DESCRIPTION:Midsummer: A Celebration of the Goddess Sunna For Northern Heathens\, marking the Holy Tide of Midsummer is a joyous celebration of kith and kin\, Gods\, Goddesses\, and nature.  \nSpring is waning. Sunna\, Heathen Goddess of the Sun\, drives her chariot through the darkening sky. On Midsummer Eve\, Sunna’s strength begins to decline\, and those who honor her gather to celebrate this passage. For the Reconstructionists of the pre-Christian religions of Northern Europe\, this is the Heathen Holy Tide of Midsummer. Songs are sung\, poems are read\, libations and toasts fill the air. The day is Summer Solstice Eve.\nFar from solemn occasions\, Northern Heathen celebrations are about joy and abundance. The Heathen faith of Asatru embraces life\, forging bonds of caring and connection with Gods\, Goddesses\, kith\, kin\, and local spirits\, called wights.\nSpeaking to the local land wights\, and seeking their consent to a gathering before it takes place\, is considered common courtesy among Reconstructionists. In a secluded place before the gathering begins\, a child is often chosen to place offerings such as porridge and butter out for the wights. These spirits were on the land first\, and the gift of their consent deserves a gift in return.\nIn honor of the strength of light and warmth that are Sunna’s blessing\, fire is a central part of the celebration at this Holy Tide.\nA focal point is a bonfire set ablaze early on Midsummer Eve. Adding fuel to a Midsummer bonfire is said to bring good fortune\, and celebrants throw in flowers and other burnt offerings-including little dolls of twisted straw that have been wished upon. Dancing\, singing\, and telling tales around the blaze are also traditional. Leaping through the flames for luck\, health\, good crops-or loving relationships-is common behavior at a Midsummer celebration.\nCreating Sunwheels-flaming wheels rolled down grassy hills-are a traditional way of honoring Sunna’s waning days after the solstice. For those wary of the rolling flames\, decorations in the form of a Sunwheel-an equal-armed cross inside a circle\, made from wire\, beads\, pipe cleaners\, Mason jar lids\, almost anything you can think of-as well as Sunwheel-shape cookies and cakes can be safely substituted and hung on a Midsummer tree.\nIf the celebration is held by a pond or lake\, celebrants often craft model Viking longboats\, fill them with symbolic gifts\, and then set them adrift and ablaze in reverence to the ancestors and their funeral practices.\nMidsummer is an auspicious time for divination. Runes-mystery symbols provided by Odin\, the All-Father-are often used for readings. Signs and dreams around this Holy Tide are given special respect\, as are portents of birds\, clouds\, and other reflections of the Northern Way’s connection to nature. Joy and fellowship abound\, nurtured by fine food and good company.\nWhen the long day wanes and Sunna starts to dip behind the horizon\, Heathen folk gather once again around the bonfire to stand in Blot (worship) to those they term their Eldest Kin. Those Gods and Goddesses of the Northern Pantheon are hailed in this ancient rite of passing a mead horn among those assembled. This act of sharing a hallowed drink forges bonds of caring and well being between the people and the Gods\, drawing the mind and soul of man closer to the divine.\nA vigil is kept through the night to greet Sunna’s return with the dawn. During this watch\, the celebrants join in another sacred rite\, Sumble. The mead horn is again passed\, as praise\, stories\, and boasts are exchanged. Those assembled forge bonds of kith and kin with each other\, deepening friendships and family relations with this holy sharing.\nAs Sunna’s chariot again appears at the dawning of the Summer Solstice\, another Great Blessing has been celebrated. The Holy Wheel of the year has moved on.
URL:https://md-kayaker.com/event/summer-solstice-3/
CATEGORIES:Holiday
END:VEVENT
BEGIN:VEVENT
DTSTART;VALUE=DATE:20260621
DTEND;VALUE=DATE:20260623
DTSTAMP:20260424T212649
CREATED:20250328T211916Z
LAST-MODIFIED:20250328T211916Z
UID:3033-1782000000-1782172799@md-kayaker.com
SUMMARY:Father's Day
DESCRIPTION:
URL:https://md-kayaker.com/event/fathers-day-3/
CATEGORIES:Holiday
END:VEVENT
BEGIN:VEVENT
DTSTART;VALUE=DATE:20260704
DTEND;VALUE=DATE:20260706
DTSTAMP:20260424T212649
CREATED:20250328T211926Z
LAST-MODIFIED:20250328T211926Z
UID:3037-1783123200-1783295999@md-kayaker.com
SUMMARY:Independence Day
DESCRIPTION:
URL:https://md-kayaker.com/event/independence-day-3/
CATEGORIES:Holiday
END:VEVENT
BEGIN:VEVENT
DTSTART;VALUE=DATE:20260801
DTEND;VALUE=DATE:20260803
DTSTAMP:20260424T212649
CREATED:20250328T211947Z
LAST-MODIFIED:20250328T211947Z
UID:3042-1785542400-1785715199@md-kayaker.com
SUMMARY:Lughnasadh/Lammas
DESCRIPTION:Celebrating Summer’s End The ancient customs of the Celtic festival Lughnasa\, and how you can honor the holiday today.\nAncient Celtic Fire Festival marking the height of Summer and the first of the harvest. Anglo-Saxons called it Lammas\, for loaf-mass\, after the blessing of bread\, made from the first harvest of grain. \nModern pagans celebrate the wheel of the year with eight seasonal holidays?the solstices and equinoxes and the cross-quarter-days in between. The ancient Celtic festival Lughnasa (pronounced loonasah)\, falling midway between summer solstice and autumn equinox\, marks the end of summer and the beginning of the harvest. The Anglo-Saxons called it Lammas\, for loaf-mass\, after the blessing of bread\, made from the first harvest of grain. Today\, most pagans observe the holiday on August 1.\nThe 1990 play “Dancing at Lughnasa” (later a movie starring Meryl Streep) depicts the melancholy that underlies this festival\, the sorrow at the end of summer\, the sacrifice that comes with cutting the grain.\nIn ancient times\, Lughnasa was also the time of an assembly in honor of the Celtic hero-god Lugh (nasad means assembly). The poet Cuan o’Lothchain wrote in 1007 that the purpose of the assembly was to provide corn\, milk\, good weather\, and peace\, and that Ireland will always have song as long as the assembly is held.\nAt the famous assembly in Leinster\, Ireland\, which was held in August every third year and lasted for seven days\, a poem was written in 1040 to celebrate the fair. This description gives a flavor of what it must have been like:\nThree busy markets on the ground\,\nA market of food\, a market of live stock\,\nThe great market of the Greek strangers\nWhere there is gold and fine raiment.\nThe slope of the horses\, the slope of the cooking\,\nThe slope of the women met for embroidery.\nFolklorist Maire MacNeill wrote a book about Lughnasa\, looking for clues about the origins of the festival from a variety of sources including a survey administered in Ireland in 1942. As a folklorist\, I always look at the simple\, earth-based folk customs that persist for the core themes of the holiday.\nThis holiday has many names\, including Bron Trogain\, sometimes translated as “earth sorrows under her fruits.” Other names refer to customs associated with the holiday like Garlic Sunday\, Black Crom’s Sunday\, the Last Sunday of Summer\, the First Sunday of Autumn\, Bilberry Sunday\, and Garland Sunday.\nClimbing a mountain is one of the most characteristic aspects of Lughnasa. People climbed mountains all over Ireland\, often picking bilberries as they go\, thus giving rise to the popular name of Bilberry Sunday. Bilberries are one of the first berries to ripen in Ireland (today\, where I live in Seattle\, we?re more likely to be harvesting the first blackberries). In some places\, boys threaded the berries on grass stalks and make bracelets of them for the girls of their choice. In Cashel Plantin’ in County Armagh\, these strung berries were brought home as presents and kept around the house for luck.\nIn County Mayo\, people wore garlands made from the stalks of corn. In other places\, the garlands were fashioned from flowers and left on mountain tops\, along with other offerings such as wheat. At Gainmhe in County Donegal\, everyone wore a flower going up hill and at the summit all the flowers were put into a hole and covered over\, as a sign that summer was over.\nSince many scholars believe Lugh was a sun-god\, it makes sense that people would climb mountains and leave offerings for him in high places. But some believe the offerings were left for the fairies\, who would be extraordinarily active on quarter days. MacNeill believes the practice of standing on a peak overlooking the landscape\, keeps alive a passion for the land and its history.\nMany of the customs of Lughnasa have slowly faded away over the centuries\, but some traditions are still honored. It’s said to be lucky to harvest new potatoes on Lughnasa and unlucky to dig them up earlier. The farmers of Ballinrobe\, County Mayo\, said there were three things a good farmer should have left on Garlic Sunday: a stack of unthreshed oats\, a stack of old turf\, and a pit of old potatoes (thus showing his ability to properly allocate his resources).\nIt?s also traditional to have the potatoes for dinner on Lughnasa\, often with bacon and cabbage\, or in Colcannon (a dish of potatoes\, mixed with butter or milk and seasoned with garlic\, onion or cabbage).\nAnd pilgrims still climb Mount Brandon on the last Sunday in July\, circumambulating the ruined medieval church and the nearby well\, under the watchful eyes of a sculpture of Crom Dubh\, the Celtic god of harvest.\nIf you want to honor this ancient holiday\, incorporate these Lughnasa traditions into your celebrations:\nHike to a mountaintop where you can overlook the land\nGather flowers and leave them as an offering to the sun god\, or the fairies.\nYou could also bury them or burn them as a sign that summer has passed\nGo berry picking\nEnjoy new potatoes\, or whatever you harvest from your garden\nDance and sing around a bonfire
URL:https://md-kayaker.com/event/lughnasadh-lammas-3/
CATEGORIES:Holiday
END:VEVENT
BEGIN:VEVENT
DTSTART;VALUE=DATE:20260907
DTEND;VALUE=DATE:20260909
DTSTAMP:20260424T212649
CREATED:20250328T211958Z
LAST-MODIFIED:20250328T211958Z
UID:3050-1788739200-1788911999@md-kayaker.com
SUMMARY:Labor Day
DESCRIPTION:
URL:https://md-kayaker.com/event/labor-day-3/
CATEGORIES:Holiday
END:VEVENT
BEGIN:VEVENT
DTSTART;VALUE=DATE:20260911
DTEND;VALUE=DATE:20260913
DTSTAMP:20260424T212649
CREATED:20250328T212007Z
LAST-MODIFIED:20250328T212007Z
UID:3052-1789084800-1789257599@md-kayaker.com
SUMMARY:Patriots Day
DESCRIPTION:
URL:https://md-kayaker.com/event/patriots-day-6/
CATEGORIES:Holiday
END:VEVENT
BEGIN:VEVENT
DTSTART;VALUE=DATE:20260913
DTEND;VALUE=DATE:20260915
DTSTAMP:20260424T212649
CREATED:20250328T212008Z
LAST-MODIFIED:20250328T212008Z
UID:3053-1789257600-1789430399@md-kayaker.com
SUMMARY:Grandparents Day
DESCRIPTION:
URL:https://md-kayaker.com/event/grandparents-day-3/
CATEGORIES:Holiday
END:VEVENT
BEGIN:VEVENT
DTSTART;VALUE=DATE:20260922
DTEND;VALUE=DATE:20260924
DTSTAMP:20260424T212649
CREATED:20250328T212008Z
LAST-MODIFIED:20250328T212008Z
UID:3055-1790035200-1790207999@md-kayaker.com
SUMMARY:First Day of Autumn
DESCRIPTION:
URL:https://md-kayaker.com/event/first-day-of-autumn-3/
CATEGORIES:Holiday
END:VEVENT
BEGIN:VEVENT
DTSTART;VALUE=DATE:20261012
DTEND;VALUE=DATE:20261014
DTSTAMP:20260424T212649
CREATED:20250328T212015Z
LAST-MODIFIED:20250328T212015Z
UID:3060-1791763200-1791935999@md-kayaker.com
SUMMARY:Columbus Day
DESCRIPTION:
URL:https://md-kayaker.com/event/columbus-day-3/
CATEGORIES:Holiday
END:VEVENT
BEGIN:VEVENT
DTSTART;VALUE=DATE:20261016
DTEND;VALUE=DATE:20261018
DTSTAMP:20260424T212649
CREATED:20250328T212025Z
LAST-MODIFIED:20250328T212025Z
UID:3061-1792108800-1792281599@md-kayaker.com
SUMMARY:National Boss Day
DESCRIPTION:
URL:https://md-kayaker.com/event/national-boss-day-3/
CATEGORIES:Holiday
END:VEVENT
BEGIN:VEVENT
DTSTART;VALUE=DATE:20261031
DTEND;VALUE=DATE:20261102
DTSTAMP:20260424T212649
CREATED:20250328T212025Z
LAST-MODIFIED:20250328T212025Z
UID:3064-1793404800-1793577599@md-kayaker.com
SUMMARY:Halloween
DESCRIPTION:
URL:https://md-kayaker.com/event/halloween-3/
CATEGORIES:Holiday
END:VEVENT
BEGIN:VEVENT
DTSTART;VALUE=DATE:20261101
DTEND;VALUE=DATE:20261103
DTSTAMP:20260424T212649
CREATED:20250328T212026Z
LAST-MODIFIED:20250328T212026Z
UID:3065-1793491200-1793663999@md-kayaker.com
SUMMARY:Daylight Saving Time Ends
DESCRIPTION:
URL:https://md-kayaker.com/event/daylight-saving-time-ends-3/
CATEGORIES:Holiday
END:VEVENT
BEGIN:VEVENT
DTSTART;VALUE=DATE:20261101
DTEND;VALUE=DATE:20261103
DTSTAMP:20260424T212649
CREATED:20250328T212034Z
LAST-MODIFIED:20250328T212034Z
UID:3067-1793491200-1793663999@md-kayaker.com
SUMMARY:All Saint's Day
DESCRIPTION:
URL:https://md-kayaker.com/event/all-saints-day-3/
CATEGORIES:Holiday
END:VEVENT
BEGIN:VEVENT
DTSTART;VALUE=DATE:20261101
DTEND;VALUE=DATE:20261103
DTSTAMP:20260424T212649
CREATED:20250328T212034Z
LAST-MODIFIED:20250328T212034Z
UID:3068-1793491200-1793663999@md-kayaker.com
SUMMARY:Samhain
DESCRIPTION:Samhain (Sow-inn) is the word for November in Gaelic.  The Festival of Samhain is a celebration of the end of the harvest season.  It begins the dark half of the year.  It is a time when the deceased are remembered and honored\, the autumn harvest is reaped\, and the preparation for winter begins.  Samhain is also consider the The Celtic New Year.\nHerbs and flowers associated with Samhain: acorn\, oak\, apple\, arborvitae\, chrysanthemum\, hazel\, pumpkin\, sage\, thistle\, and wormwood. \nIncense associated with Samhain: apple\, nutmeg\, sage\, and mint. \nColors associated with Samhain: yellow\, orange\, brown\, black. \nGemstones associated with Samhain: turquoise\, sodalite\, citrine\, moonstones and hematite. \nDecorations associated with Samhain: pumpkins\, apples\, autumn leaves and flowers\, winter squash\, and photos and objects of deceased loved ones. \nFoods associated with Samhain: apples\, cider\, nuts\, mulled wine\, pumpkin\, cranberry\, and tea.
URL:https://md-kayaker.com/event/samhain-4/
CATEGORIES:Holiday
END:VEVENT
BEGIN:VEVENT
DTSTART;VALUE=DATE:20261102
DTEND;VALUE=DATE:20261104
DTSTAMP:20260424T212649
CREATED:20250328T212035Z
LAST-MODIFIED:20250328T212035Z
UID:3070-1793577600-1793750399@md-kayaker.com
SUMMARY:All Soul's Day
DESCRIPTION:
URL:https://md-kayaker.com/event/all-souls-day-3/
CATEGORIES:Holiday
END:VEVENT
BEGIN:VEVENT
DTSTART;VALUE=DATE:20261103
DTEND;VALUE=DATE:20261105
DTSTAMP:20260424T212649
CREATED:20250328T212035Z
LAST-MODIFIED:20250328T212035Z
UID:3071-1793664000-1793836799@md-kayaker.com
SUMMARY:Election Day
DESCRIPTION:
URL:https://md-kayaker.com/event/election-day-3/
CATEGORIES:Holiday
END:VEVENT
BEGIN:VEVENT
DTSTART;VALUE=DATE:20261111
DTEND;VALUE=DATE:20261113
DTSTAMP:20260424T212649
CREATED:20250328T212044Z
LAST-MODIFIED:20250328T212044Z
UID:3073-1794355200-1794527999@md-kayaker.com
SUMMARY:Veteran's Day
DESCRIPTION:
URL:https://md-kayaker.com/event/veterans-day-3/
CATEGORIES:Holiday
END:VEVENT
BEGIN:VEVENT
DTSTART;VALUE=DATE:20261126
DTEND;VALUE=DATE:20261128
DTSTAMP:20260424T212649
CREATED:20250328T212045Z
LAST-MODIFIED:20250328T212045Z
UID:3076-1795651200-1795823999@md-kayaker.com
SUMMARY:Thanksgiving Day
DESCRIPTION:
URL:https://md-kayaker.com/event/thanksgiving-day-3/
CATEGORIES:Holiday
END:VEVENT
BEGIN:VEVENT
DTSTART;VALUE=DATE:20261127
DTEND;VALUE=DATE:20261129
DTSTAMP:20260424T212649
CREATED:20250328T212054Z
LAST-MODIFIED:20250328T212054Z
UID:3077-1795737600-1795910399@md-kayaker.com
SUMMARY:Black Friday
DESCRIPTION:
URL:https://md-kayaker.com/event/black-friday-3/
CATEGORIES:Holiday
END:VEVENT
BEGIN:VEVENT
DTSTART;VALUE=DATE:20261207
DTEND;VALUE=DATE:20261209
DTSTAMP:20260424T212649
CREATED:20250328T212055Z
LAST-MODIFIED:20250328T212055Z
UID:3079-1796601600-1796774399@md-kayaker.com
SUMMARY:Pearl Harbor Day
DESCRIPTION:
URL:https://md-kayaker.com/event/pearl-harbor-day-3/
CATEGORIES:Holiday
END:VEVENT
BEGIN:VEVENT
DTSTART;VALUE=DATE:20261221
DTEND;VALUE=DATE:20261223
DTSTAMP:20260424T212649
CREATED:20250328T212100Z
LAST-MODIFIED:20250328T212100Z
UID:3083-1797811200-1797983999@md-kayaker.com
SUMMARY:First Day of Winter
DESCRIPTION:
URL:https://md-kayaker.com/event/first-day-of-winter-3/
CATEGORIES:Holiday
END:VEVENT
END:VCALENDAR