BEGIN:VCALENDAR
VERSION:2.0
PRODID:-//  Maryland Kayaker - ECPv6.15.20//NONSGML v1.0//EN
CALSCALE:GREGORIAN
METHOD:PUBLISH
X-WR-CALNAME:  Maryland Kayaker
X-ORIGINAL-URL:https://md-kayaker.com
X-WR-CALDESC:Events for   Maryland Kayaker
REFRESH-INTERVAL;VALUE=DURATION:PT1H
X-Robots-Tag:noindex
X-PUBLISHED-TTL:PT1H
BEGIN:VTIMEZONE
TZID:America/New_York
BEGIN:DAYLIGHT
TZOFFSETFROM:-0500
TZOFFSETTO:-0400
TZNAME:EDT
DTSTART:20250309T070000
END:DAYLIGHT
BEGIN:STANDARD
TZOFFSETFROM:-0400
TZOFFSETTO:-0500
TZNAME:EST
DTSTART:20251102T060000
END:STANDARD
BEGIN:DAYLIGHT
TZOFFSETFROM:-0500
TZOFFSETTO:-0400
TZNAME:EDT
DTSTART:20260308T070000
END:DAYLIGHT
BEGIN:STANDARD
TZOFFSETFROM:-0400
TZOFFSETTO:-0500
TZNAME:EST
DTSTART:20261101T060000
END:STANDARD
BEGIN:DAYLIGHT
TZOFFSETFROM:-0500
TZOFFSETTO:-0400
TZNAME:EDT
DTSTART:20270314T070000
END:DAYLIGHT
BEGIN:STANDARD
TZOFFSETFROM:-0400
TZOFFSETTO:-0500
TZNAME:EST
DTSTART:20271107T060000
END:STANDARD
BEGIN:DAYLIGHT
TZOFFSETFROM:-0500
TZOFFSETTO:-0400
TZNAME:EDT
DTSTART:20280312T070000
END:DAYLIGHT
BEGIN:STANDARD
TZOFFSETFROM:-0400
TZOFFSETTO:-0500
TZNAME:EST
DTSTART:20281105T060000
END:STANDARD
END:VTIMEZONE
BEGIN:VEVENT
DTSTART;VALUE=DATE:20261231
DTEND;VALUE=DATE:20270102
DTSTAMP:20260424T234241
CREATED:20250328T212111Z
LAST-MODIFIED:20250328T212111Z
UID:3091-1798675200-1798847999@md-kayaker.com
SUMMARY:New Year's Eve
DESCRIPTION:
URL:https://md-kayaker.com/event/new-years-eve-3/
CATEGORIES:Holiday
END:VEVENT
BEGIN:VEVENT
DTSTART;VALUE=DATE:20270101
DTEND;VALUE=DATE:20270103
DTSTAMP:20260424T234241
CREATED:20250328T212111Z
LAST-MODIFIED:20250328T212111Z
UID:3092-1798761600-1798934399@md-kayaker.com
SUMMARY:New Year's Day
DESCRIPTION:
URL:https://md-kayaker.com/event/new-years-day-4/
CATEGORIES:Holiday
END:VEVENT
BEGIN:VEVENT
DTSTART;VALUE=DATE:20270106
DTEND;VALUE=DATE:20270108
DTSTAMP:20260424T234241
CREATED:20250328T212120Z
LAST-MODIFIED:20250328T212120Z
UID:3093-1799193600-1799366399@md-kayaker.com
SUMMARY:Three Kings Day
DESCRIPTION:
URL:https://md-kayaker.com/event/three-kings-day-5/
CATEGORIES:Holiday
END:VEVENT
BEGIN:VEVENT
DTSTART;VALUE=DATE:20270118
DTEND;VALUE=DATE:20270120
DTSTAMP:20260424T234241
CREATED:20250328T212121Z
LAST-MODIFIED:20250328T212121Z
UID:3096-1800230400-1800403199@md-kayaker.com
SUMMARY:Martin Luther King Day
DESCRIPTION:
URL:https://md-kayaker.com/event/martin-luther-king-day-5/
CATEGORIES:Holiday
END:VEVENT
BEGIN:VEVENT
DTSTART;VALUE=DATE:20270201
DTEND;VALUE=DATE:20270203
DTSTAMP:20260424T234241
CREATED:20250328T212128Z
LAST-MODIFIED:20250328T212128Z
UID:3099-1801440000-1801612799@md-kayaker.com
SUMMARY:National Freedom Day
DESCRIPTION:
URL:https://md-kayaker.com/event/national-freedom-day-4/
CATEGORIES:Holiday
END:VEVENT
BEGIN:VEVENT
DTSTART;VALUE=DATE:20270202
DTEND;VALUE=DATE:20270204
DTSTAMP:20260424T234241
CREATED:20250328T212128Z
LAST-MODIFIED:20250328T212128Z
UID:3100-1801526400-1801699199@md-kayaker.com
SUMMARY:Groundhog Day
DESCRIPTION:
URL:https://md-kayaker.com/event/groundhog-day-4/
CATEGORIES:Holiday
END:VEVENT
BEGIN:VEVENT
DTSTART;VALUE=DATE:20270202
DTEND;VALUE=DATE:20270204
DTSTAMP:20260424T234241
CREATED:20250328T212128Z
LAST-MODIFIED:20250328T212128Z
UID:3101-1801526400-1801699199@md-kayaker.com
SUMMARY:Imbolc
DESCRIPTION:Imbolc was originally a day to honor the Celtic goddess Brigid (Brigit)\, goddess of poetry\, healing\, and metal work.  Imbolc or Oimelc refers ewes beginning to lactate and giving birth to spring lambs.  Celebrated on February 2\, Imbolc is the halfway mark between the Winter Solstice and the Spring Equinox.\nAccording to Gaelic folklore\, Cailleach\, the old woman of winter\, intends gather firewood every Imbolc to have ready for a longer winter.  She would brighten the sky while she gathered her wood.  Naturally\, people looked forward to a dreary\, overcast day on Imbolc as it meant Cailleach was still fast asleep and winter would be over soon. \nAs Christianity took hold\, this day became the Feast of St. Brigid and Candlemas.  It is also celebrated in various forms by Neopagans\, Celtic Reconstructionist\, and Wiccans.  It is celebrated on February 2 in the northern hemisphere and August 1 in the southern hemisphere.   Wiccans celebrate Imbolc as one of four fire festivals.\nThig an nathair as an toll\nLa donn Bride\,\nGed robh tri traighean dh? an t-sneachd\nAir leachd an lair.”The serpent will come from the hole\nOn the brown Day of Bride\,\nThough there should be three feet of snow\nOn the flat surface of the ground.”\nScottish Gaelic proverb\nTraditions and customs:\nEwes begin lactating and giving birth to spring lambs.\nPredicting the weather by watching for hedgehogs\, snakes\, and other burrowing animals come out of their dens.\nCandles and fires are lit representing the return of the sun and longer days.\nBrigid?s crosses and corn dollies\, representing Brigid\, are made.\nIt is also a time of purification.  People clean out their houses.\nThe goddess is said to walk the earth on Imbolc Eve\, so people left an article of clothing outside their front door for her to bless as she passed by.  It was said to have healing powers once blessed.\nHerbs and flowers associated with Imbolc: angelica\, basil\, bay\, chamomile\, cinnamon\, red clover\, crocus\, dandelion\, dill\, frankincense\, heather\, myrrh\, nettle\, orris root\, primrose\, rosemary\, rowan\, saffron\, and snowdrop. \nIncense associated with Imbolc: rosemary \, cinnamon\, wisteria\, frankincense\, myrrh\, basil\, jasmine\, camphor\, and lotus. \nColors associated with Imbolc: white\, orange\, red\, yellow\, pink\, and brown. \nGemstones associated with Imbolc: amethystm garnet\, onyx\, and turquoise. \nDecorations associated with Imbolc: candles\, Brigid’s cross\, and corn dollies. \nFoods associated with Imbolc: dairy products\, onions\, chives\, spiced wine\, and herbal tea.
URL:https://md-kayaker.com/event/imbolc-5/
CATEGORIES:Holiday
END:VEVENT
BEGIN:VEVENT
DTSTART;VALUE=DATE:20270207
DTEND;VALUE=DATE:20270209
DTSTAMP:20260424T234241
CREATED:20250328T212138Z
LAST-MODIFIED:20250328T212138Z
UID:3103-1801958400-1802131199@md-kayaker.com
SUMMARY:Super Bowl Sunday
DESCRIPTION:
URL:https://md-kayaker.com/event/super-bowl-sunday-4/
CATEGORIES:Holiday
END:VEVENT
BEGIN:VEVENT
DTSTART;VALUE=DATE:20270212
DTEND;VALUE=DATE:20270214
DTSTAMP:20260424T234241
CREATED:20250328T212138Z
LAST-MODIFIED:20250328T212138Z
UID:3104-1802390400-1802563199@md-kayaker.com
SUMMARY:Lincoln's Birthday
DESCRIPTION:
URL:https://md-kayaker.com/event/lincolns-birthday-4/
CATEGORIES:Holiday
END:VEVENT
BEGIN:VEVENT
DTSTART;VALUE=DATE:20270214
DTEND;VALUE=DATE:20270216
DTSTAMP:20260424T234241
CREATED:20250328T212138Z
LAST-MODIFIED:20250328T212138Z
UID:3105-1802563200-1802735999@md-kayaker.com
SUMMARY:Valentine's Day
DESCRIPTION:
URL:https://md-kayaker.com/event/valentines-day-4/
CATEGORIES:Holiday
END:VEVENT
BEGIN:VEVENT
DTSTART;VALUE=DATE:20270215
DTEND;VALUE=DATE:20270217
DTSTAMP:20260424T234241
CREATED:20250328T212138Z
LAST-MODIFIED:20250328T212138Z
UID:3107-1802649600-1802822399@md-kayaker.com
SUMMARY:President's Day
DESCRIPTION:
URL:https://md-kayaker.com/event/presidents-day-4/
CATEGORIES:Holiday
END:VEVENT
BEGIN:VEVENT
DTSTART;VALUE=DATE:20270222
DTEND;VALUE=DATE:20270224
DTSTAMP:20260424T234241
CREATED:20250328T212148Z
LAST-MODIFIED:20250328T212148Z
UID:3109-1803254400-1803427199@md-kayaker.com
SUMMARY:Washington's Birthday
DESCRIPTION:
URL:https://md-kayaker.com/event/washingtons-birthday-4/
CATEGORIES:Holiday
END:VEVENT
BEGIN:VEVENT
DTSTART;VALUE=DATE:20270317
DTEND;VALUE=DATE:20270319
DTSTAMP:20260424T234241
CREATED:20250328T212155Z
LAST-MODIFIED:20250328T212155Z
UID:3113-1805241600-1805414399@md-kayaker.com
SUMMARY:Saint Patrick's Day
DESCRIPTION:
URL:https://md-kayaker.com/event/saint-patricks-day-4/
CATEGORIES:Holiday
END:VEVENT
BEGIN:VEVENT
DTSTART;VALUE=DATE:20270319
DTEND;VALUE=DATE:20270321
DTSTAMP:20260424T234241
CREATED:20250328T212156Z
LAST-MODIFIED:20250328T212156Z
UID:3114-1805414400-1805587199@md-kayaker.com
SUMMARY:St. Joseph's Day
DESCRIPTION:
URL:https://md-kayaker.com/event/st-josephs-day-4/
CATEGORIES:Holiday
END:VEVENT
BEGIN:VEVENT
DTSTART;VALUE=DATE:20270321
DTEND;VALUE=DATE:20270323
DTSTAMP:20260424T234241
CREATED:20250328T212156Z
LAST-MODIFIED:20250328T212156Z
UID:3116-1805587200-1805759999@md-kayaker.com
SUMMARY:First Day of Spring
DESCRIPTION:
URL:https://md-kayaker.com/event/first-day-of-spring-4/
CATEGORIES:Holiday
END:VEVENT
BEGIN:VEVENT
DTSTART;VALUE=DATE:20270328
DTEND;VALUE=DATE:20270330
DTSTAMP:20260424T234241
CREATED:20250328T212205Z
LAST-MODIFIED:20250328T212205Z
UID:3118-1806192000-1806364799@md-kayaker.com
SUMMARY:Daylight Savings Time Begins
DESCRIPTION:
URL:https://md-kayaker.com/event/daylight-savings-time-begins-4/
CATEGORIES:Holiday
END:VEVENT
BEGIN:VEVENT
DTSTART;VALUE=DATE:20270401
DTEND;VALUE=DATE:20270403
DTSTAMP:20260424T234241
CREATED:20250328T212206Z
LAST-MODIFIED:20250328T212206Z
UID:3120-1806537600-1806710399@md-kayaker.com
SUMMARY:April Fool's Day
DESCRIPTION:
URL:https://md-kayaker.com/event/april-fools-day-4/
CATEGORIES:Holiday
END:VEVENT
BEGIN:VEVENT
DTSTART;VALUE=DATE:20270415
DTEND;VALUE=DATE:20270417
DTSTAMP:20260424T234241
CREATED:20250328T212215Z
LAST-MODIFIED:20250328T212215Z
UID:3123-1807747200-1807919999@md-kayaker.com
SUMMARY:Tax Day
DESCRIPTION:
URL:https://md-kayaker.com/event/tax-day-4/
CATEGORIES:Holiday
END:VEVENT
BEGIN:VEVENT
DTSTART;VALUE=DATE:20270419
DTEND;VALUE=DATE:20270421
DTSTAMP:20260424T234241
CREATED:20250328T212216Z
LAST-MODIFIED:20250328T212216Z
UID:3124-1808092800-1808265599@md-kayaker.com
SUMMARY:Patriots Day
DESCRIPTION:
URL:https://md-kayaker.com/event/patriots-day-7/
CATEGORIES:Holiday
END:VEVENT
BEGIN:VEVENT
DTSTART;VALUE=DATE:20270421
DTEND;VALUE=DATE:20270423
DTSTAMP:20260424T234241
CREATED:20250328T212216Z
LAST-MODIFIED:20250328T212216Z
UID:3126-1808265600-1808438399@md-kayaker.com
SUMMARY:Administrative Professionals Day
DESCRIPTION:
URL:https://md-kayaker.com/event/administrative-professionals-day-4/
CATEGORIES:Holiday
END:VEVENT
BEGIN:VEVENT
DTSTART;VALUE=DATE:20270422
DTEND;VALUE=DATE:20270424
DTSTAMP:20260424T234241
CREATED:20250328T212216Z
LAST-MODIFIED:20250328T212216Z
UID:3127-1808352000-1808524799@md-kayaker.com
SUMMARY:Earth Day
DESCRIPTION:
URL:https://md-kayaker.com/event/earth-day-4/
CATEGORIES:Holiday
END:VEVENT
BEGIN:VEVENT
DTSTART;VALUE=DATE:20270430
DTEND;VALUE=DATE:20270502
DTSTAMP:20260424T234241
CREATED:20250328T212219Z
LAST-MODIFIED:20250328T212219Z
UID:3129-1809043200-1809215999@md-kayaker.com
SUMMARY:Arbor Day
DESCRIPTION:
URL:https://md-kayaker.com/event/arbor-day-4/
CATEGORIES:Holiday
END:VEVENT
BEGIN:VEVENT
DTSTART;VALUE=DATE:20270501
DTEND;VALUE=DATE:20270503
DTSTAMP:20260424T234241
CREATED:20250328T212219Z
LAST-MODIFIED:20250328T212219Z
UID:3130-1809129600-1809302399@md-kayaker.com
SUMMARY:Kentucky Derby Day
DESCRIPTION:
URL:https://md-kayaker.com/event/kentucky-derby-day-4/
CATEGORIES:Holiday
END:VEVENT
BEGIN:VEVENT
DTSTART;VALUE=DATE:20270501
DTEND;VALUE=DATE:20270503
DTSTAMP:20260424T234241
CREATED:20250328T212219Z
LAST-MODIFIED:20250328T212219Z
UID:3131-1809129600-1809302399@md-kayaker.com
SUMMARY:May Day (Beltane)
DESCRIPTION:When the gates of Beltane swing open on May 1\, sunlight and blossom welcome the procession of the year into the green halls of summer. At Imbolc we rejoiced at the return of light; now we celebrate life\, growth\, love and sexuality: “the force that drives the green fuse through the flower\,” in the words of Welsh poet Dylan Thomas.\nWhile the second part of Irish Beltane and Scottish Bealtuinn clearly means “fire\,” from the old Celtic word tene\, linguists are uncertain as to whether Bel refers to Belenos\, the Gaulish Apollo\, or is simply derived from bel\, meaning “brilliant.” It might even derive from bil tene\, or “lucky fire\,” because to jump between two Beltaine fires was sure to bring good fortune\, health to your livestock\, and prosperity.  \nGods of the Celts: Belenos \nBelenos (Beh-ley-noss) was a sun god who may have been connected with the festival of Beltaine. His name means “bright” or “brilliant.” The Romans called him Apollo Belenos\, after their god of the sun\, but he seems to have existed as a Celtic god in his own right before this period. His cult extended from northern Italy and up through Austria and Gaul\, where there were sanctuaries dedicated to him at healing springs\, for the sun was believed to have marvelous curative properties when associated with water. A shrine to Belenos may still stand at Paimpont in the old forest of Broceliande in Brittany\, Gaul. In the clearing\, the sacred well known as the Fountain of Barenton bubbles up near an ancient dolmen stone. The old name of the sacred well was Belenton\, probably a contraction of Bel-Nementon\, the sacred grove of Belenos.  \nThe Blessing of Fire\nI’ll tell you of a special festival\,\nThe glorious dues of May-day;\nAle\, roots\, sweet whey\,\nAnd fresh curds to the fire.\n— Early Irish Calendar Poem\nOn Beltane Eve the druids and their successors assembled on high hills with a view of the rising sun. They came to raise the great fires that would bring the power of the sun to Earth and to sanctify and purify the whole community and their livestock in readiness for the new cycle. Fire was an interface between the human race and the divine\, in particular\, the elemental powers of the Upperworld who would determine the fate of herds\, the flocks\, and the growing harvest. Sacrificial offerings were cast into the fire to gain their goodwill\, born skyward on flames like hands uplifted in prayer.\nIn later centuries the Beltane fires continued to blaze in Scotland and Ireland. An eighteenth-century account from the Scottish Highlands describes how every fire in the household was put out\, and on the hill the fire for the great bonfires\, known as the “needfire\,” was kindled with the wood of nine sacred trees. Only the best men were fit to kindle the sacred fire. If any were guilty of murder\, adultery\, theft\, or other major crime\, the fire would not kindle or else it would lack its usual virtues. Three times three\, three times nine\, or even nine times nine men took turns twirling the stick\, or “windle” of oak\, which fitted snugly inside a hole bored in a well-seasoned plank of oak\, the tree of the sun. As soon as sparks began to appear\, they applied a piece of agaric\, a fungus that grows on old birch trees and is very combustible. Birch\, as we have seen\, is a tree associated with new beginnings\, purification and the spirit world.  \nThe fire came like a blessing from the gods. From this magical flame the great bonfire was lit\, and now shadowy figures emerged from their darkened homesteads below the hill\, driving their cattle before them. They also carried provisions–a custard of eggs\, butter\, oatmeal\, and milk\, and plenty of beer and whiskey.  \nSome of the custard was poured on the ground as an offering to the gods and the sacred land.  \nThere was also an oatmeal bannock upon which were raised nine square knobs\, one each for a god or saint who protected their flocks and herds\, and also for the particular animals that preyed on them. Turning to the fire\, each person broke off a knob and threw it over his or her shoulder\, saying\, “This I give to thee\, preserve thou my horses; this to thee\, preserve thou my sheep.” And to the predators: “This I give to thee\, O Fox! Spare thou my lambs. This to thee\, O hooded Crow! This to thee\, O Eagle!” When the ceremony was over they ate the rest of the food.  \nA nineteenth-century account from Ireland gives us a glimpse of the scenes that might have followed. The whole hillside came alive as the boys thrust brands of dried sedge and heather into the newly roaring flames and whirled them about their heads in imitation of the circling sun. Dances spun in a ring. Young men leaped through the flames to sain\, or protect\, themselves and their livestock\, while old folk slowly walked around the fire muttering prayers. A man about to embark on a long journey or dangerous undertaking–or to do both by getting married–leaped backward and forward three times through the flames for luck. In some places two fires were built and the livestock driven between them to purify them from disease after the long winter inside. As the fire sunk low\, the girls jumped across it to procure good husbands; pregnant women stepped through it to ensure easy birth; and mothers carried their children across the smoldering ashes. All celebrated the power of the sacred fire to purify the air of demon and disease\, thunder and lightning\, and anything else that might harm their hopes for the unborn child of the year’s harvest.  \nWhen the fire died down the embers were thrown among the sprouting crops for good luck\, while each household carried some back to kindle a new fire in their hearth. When the sun rose those who had stayed up to watch it might see it dance for joy three times upon the horizon before leaping up in all its summer glory.
URL:https://md-kayaker.com/event/may-day-beltane-4/
CATEGORIES:Holiday
END:VEVENT
BEGIN:VEVENT
DTSTART;VALUE=DATE:20270504
DTEND;VALUE=DATE:20270506
DTSTAMP:20260424T234241
CREATED:20250328T212220Z
LAST-MODIFIED:20250328T212220Z
UID:3132-1809388800-1809561599@md-kayaker.com
SUMMARY:National Teacher's Day
DESCRIPTION:
URL:https://md-kayaker.com/event/national-teachers-day-4/
CATEGORIES:Holiday
END:VEVENT
BEGIN:VEVENT
DTSTART;VALUE=DATE:20270505
DTEND;VALUE=DATE:20270507
DTSTAMP:20260424T234241
CREATED:20250328T212229Z
LAST-MODIFIED:20250328T212229Z
UID:3133-1809475200-1809647999@md-kayaker.com
SUMMARY:Cinco de Mayo
DESCRIPTION:
URL:https://md-kayaker.com/event/cinco-de-mayo-4/
CATEGORIES:Holiday
END:VEVENT
BEGIN:VEVENT
DTSTART;VALUE=DATE:20270516
DTEND;VALUE=DATE:20270518
DTSTAMP:20260424T234241
CREATED:20250328T212230Z
LAST-MODIFIED:20250328T212230Z
UID:3136-1810425600-1810598399@md-kayaker.com
SUMMARY:Mother's Day
DESCRIPTION:
URL:https://md-kayaker.com/event/mothers-day-4/
CATEGORIES:Holiday
END:VEVENT
BEGIN:VEVENT
DTSTART;VALUE=DATE:20270529
DTEND;VALUE=DATE:20270531
DTSTAMP:20260424T234241
CREATED:20250328T212239Z
LAST-MODIFIED:20250328T212239Z
UID:3139-1811548800-1811721599@md-kayaker.com
SUMMARY:John F. Kennedy's Birthday
DESCRIPTION:
URL:https://md-kayaker.com/event/john-f-kennedys-birthday-4/
CATEGORIES:Holiday
END:VEVENT
BEGIN:VEVENT
DTSTART;VALUE=DATE:20270531
DTEND;VALUE=DATE:20270602
DTSTAMP:20260424T234241
CREATED:20250328T212240Z
LAST-MODIFIED:20250328T212240Z
UID:3140-1811721600-1811894399@md-kayaker.com
SUMMARY:Memorial Day
DESCRIPTION:
URL:https://md-kayaker.com/event/memorial-day-4/
CATEGORIES:Holiday
END:VEVENT
BEGIN:VEVENT
DTSTART;VALUE=DATE:20270606
DTEND;VALUE=DATE:20270608
DTSTAMP:20260424T234241
CREATED:20250328T212240Z
LAST-MODIFIED:20250328T212240Z
UID:3142-1812240000-1812412799@md-kayaker.com
SUMMARY:D-Day
DESCRIPTION:
URL:https://md-kayaker.com/event/d-day-4/
CATEGORIES:Holiday
END:VEVENT
END:VCALENDAR