BEGIN:VCALENDAR
VERSION:2.0
PRODID:-//  Maryland Kayaker - ECPv6.15.20//NONSGML v1.0//EN
CALSCALE:GREGORIAN
METHOD:PUBLISH
X-WR-CALNAME:  Maryland Kayaker
X-ORIGINAL-URL:https://md-kayaker.com
X-WR-CALDESC:Events for   Maryland Kayaker
REFRESH-INTERVAL;VALUE=DURATION:PT1H
X-Robots-Tag:noindex
X-PUBLISHED-TTL:PT1H
BEGIN:VTIMEZONE
TZID:America/New_York
BEGIN:DAYLIGHT
TZOFFSETFROM:-0500
TZOFFSETTO:-0400
TZNAME:EDT
DTSTART:20240310T070000
END:DAYLIGHT
BEGIN:STANDARD
TZOFFSETFROM:-0400
TZOFFSETTO:-0500
TZNAME:EST
DTSTART:20241103T060000
END:STANDARD
BEGIN:DAYLIGHT
TZOFFSETFROM:-0500
TZOFFSETTO:-0400
TZNAME:EDT
DTSTART:20250309T070000
END:DAYLIGHT
BEGIN:STANDARD
TZOFFSETFROM:-0400
TZOFFSETTO:-0500
TZNAME:EST
DTSTART:20251102T060000
END:STANDARD
BEGIN:DAYLIGHT
TZOFFSETFROM:-0500
TZOFFSETTO:-0400
TZNAME:EDT
DTSTART:20260308T070000
END:DAYLIGHT
BEGIN:STANDARD
TZOFFSETFROM:-0400
TZOFFSETTO:-0500
TZNAME:EST
DTSTART:20261101T060000
END:STANDARD
BEGIN:DAYLIGHT
TZOFFSETFROM:-0500
TZOFFSETTO:-0400
TZNAME:EDT
DTSTART:20270314T070000
END:DAYLIGHT
BEGIN:STANDARD
TZOFFSETFROM:-0400
TZOFFSETTO:-0500
TZNAME:EST
DTSTART:20271107T060000
END:STANDARD
END:VTIMEZONE
BEGIN:VEVENT
DTSTART;VALUE=DATE:20260417
DTEND;VALUE=DATE:20260419
DTSTAMP:20260424T173038
CREATED:20250328T211833Z
LAST-MODIFIED:20250328T211833Z
UID:3009-1776384000-1776556799@md-kayaker.com
SUMMARY:New Moon
DESCRIPTION:
URL:https://md-kayaker.com/event/new-moon-29/
CATEGORIES:Astromany
END:VEVENT
BEGIN:VEVENT
DTSTART;VALUE=DATE:20260410
DTEND;VALUE=DATE:20260412
DTSTAMP:20260424T173038
CREATED:20250328T211832Z
LAST-MODIFIED:20250328T211832Z
UID:3006-1775779200-1775951999@md-kayaker.com
SUMMARY:Third Quarter Moon
DESCRIPTION:
URL:https://md-kayaker.com/event/third-quarter-moon-16/
CATEGORIES:Astromany
END:VEVENT
BEGIN:VEVENT
DTSTART;VALUE=DATE:20260401
DTEND;VALUE=DATE:20260403
DTSTAMP:20260424T173038
CREATED:20250328T211828Z
LAST-MODIFIED:20250328T211828Z
UID:3005-1775001600-1775174399@md-kayaker.com
SUMMARY:Full Moon
DESCRIPTION:
URL:https://md-kayaker.com/event/full-moon-16/
CATEGORIES:Astromany
END:VEVENT
BEGIN:VEVENT
DTSTART;VALUE=DATE:20260325
DTEND;VALUE=DATE:20260327
DTSTAMP:20260424T173038
CREATED:20250328T211828Z
LAST-MODIFIED:20250328T211828Z
UID:3002-1774396800-1774569599@md-kayaker.com
SUMMARY:First Quarter Moon
DESCRIPTION:
URL:https://md-kayaker.com/event/first-quarter-moon-28/
CATEGORIES:Astromany
END:VEVENT
BEGIN:VEVENT
DTSTART;VALUE=DATE:20260320
DTEND;VALUE=DATE:20260322
DTSTAMP:20260424T173038
CREATED:20250328T211821Z
LAST-MODIFIED:20260113T195145Z
UID:3000-1773964800-1774137599@md-kayaker.com
SUMMARY:Spring Equinox
DESCRIPTION:
URL:https://md-kayaker.com/event/march-equinox-2/
CATEGORIES:Astromany
END:VEVENT
BEGIN:VEVENT
DTSTART;VALUE=DATE:20260318
DTEND;VALUE=DATE:20260320
DTSTAMP:20260424T173038
CREATED:20250328T211820Z
LAST-MODIFIED:20250328T211820Z
UID:2998-1773792000-1773964799@md-kayaker.com
SUMMARY:New Moon
DESCRIPTION:
URL:https://md-kayaker.com/event/new-moon-28/
CATEGORIES:Astromany
END:VEVENT
BEGIN:VEVENT
DTSTART;VALUE=DATE:20260311
DTEND;VALUE=DATE:20260313
DTSTAMP:20260424T173038
CREATED:20250328T211820Z
LAST-MODIFIED:20250328T211820Z
UID:2996-1773187200-1773359999@md-kayaker.com
SUMMARY:Third Quarter Moon
DESCRIPTION:
URL:https://md-kayaker.com/event/third-quarter-moon-15/
CATEGORIES:Astromany
END:VEVENT
BEGIN:VEVENT
DTSTART;VALUE=DATE:20260303
DTEND;VALUE=DATE:20260305
DTSTAMP:20260424T173038
CREATED:20250328T211810Z
LAST-MODIFIED:20250328T211810Z
UID:2995-1772496000-1772668799@md-kayaker.com
SUMMARY:Full Moon
DESCRIPTION:
URL:https://md-kayaker.com/event/full-moon-15/
CATEGORIES:Astromany
END:VEVENT
BEGIN:VEVENT
DTSTART;VALUE=DATE:20260224
DTEND;VALUE=DATE:20260226
DTSTAMP:20260424T173038
CREATED:20250328T211810Z
LAST-MODIFIED:20250328T211810Z
UID:2994-1771891200-1772063999@md-kayaker.com
SUMMARY:First Quarter Moon
DESCRIPTION:
URL:https://md-kayaker.com/event/first-quarter-moon-27/
CATEGORIES:Astromany
END:VEVENT
BEGIN:VEVENT
DTSTART;VALUE=DATE:20260217
DTEND;VALUE=DATE:20260219
DTSTAMP:20260424T173038
CREATED:20250328T211809Z
LAST-MODIFIED:20250328T211809Z
UID:2992-1771286400-1771459199@md-kayaker.com
SUMMARY:New Moon
DESCRIPTION:
URL:https://md-kayaker.com/event/new-moon-27/
CATEGORIES:Astromany
END:VEVENT
BEGIN:VEVENT
DTSTART;VALUE=DATE:20260209
DTEND;VALUE=DATE:20260211
DTSTAMP:20260424T173038
CREATED:20250328T211657Z
LAST-MODIFIED:20250328T211657Z
UID:2987-1770595200-1770767999@md-kayaker.com
SUMMARY:Third Quarter Moon
DESCRIPTION:
URL:https://md-kayaker.com/event/third-quarter-moon-14/
CATEGORIES:Astromany
END:VEVENT
BEGIN:VEVENT
DTSTART;VALUE=DATE:20260201
DTEND;VALUE=DATE:20260203
DTSTAMP:20260424T173038
CREATED:20250328T211650Z
LAST-MODIFIED:20250328T211650Z
UID:2984-1769904000-1770076799@md-kayaker.com
SUMMARY:Full Moon
DESCRIPTION:
URL:https://md-kayaker.com/event/full-moon-14/
CATEGORIES:Astromany
END:VEVENT
BEGIN:VEVENT
DTSTART;VALUE=DATE:20260125
DTEND;VALUE=DATE:20260127
DTSTAMP:20260424T173038
CREATED:20250328T211650Z
LAST-MODIFIED:20250328T211650Z
UID:2981-1769299200-1769471999@md-kayaker.com
SUMMARY:First Quarter Moon
DESCRIPTION:
URL:https://md-kayaker.com/event/first-quarter-moon-26/
CATEGORIES:Astromany
END:VEVENT
BEGIN:VEVENT
DTSTART;VALUE=DATE:20260118
DTEND;VALUE=DATE:20260120
DTSTAMP:20260424T173038
CREATED:20250328T211640Z
LAST-MODIFIED:20250328T211640Z
UID:2979-1768694400-1768867199@md-kayaker.com
SUMMARY:New Moon
DESCRIPTION:
URL:https://md-kayaker.com/event/new-moon-26/
CATEGORIES:Astromany
END:VEVENT
BEGIN:VEVENT
DTSTART;VALUE=DATE:20260110
DTEND;VALUE=DATE:20260112
DTSTAMP:20260424T173038
CREATED:20250328T211640Z
LAST-MODIFIED:20250328T211640Z
UID:2978-1768003200-1768175999@md-kayaker.com
SUMMARY:Third Quarter Moon
DESCRIPTION:
URL:https://md-kayaker.com/event/third-quarter-moon-13/
CATEGORIES:Astromany
END:VEVENT
BEGIN:VEVENT
DTSTART;VALUE=DATE:20260103
DTEND;VALUE=DATE:20260105
DTSTAMP:20260424T173038
CREATED:20250328T211640Z
LAST-MODIFIED:20250328T211640Z
UID:2976-1767398400-1767571199@md-kayaker.com
SUMMARY:Full Moon
DESCRIPTION:
URL:https://md-kayaker.com/event/full-moon-13/
CATEGORIES:Astromany
END:VEVENT
BEGIN:VEVENT
DTSTART;VALUE=DATE:20251227
DTEND;VALUE=DATE:20251229
DTSTAMP:20260424T173038
CREATED:20250328T211630Z
LAST-MODIFIED:20250328T211630Z
UID:2971-1766793600-1766966399@md-kayaker.com
SUMMARY:First Quarter Moon
DESCRIPTION:
URL:https://md-kayaker.com/event/first-quarter-moon-25/
CATEGORIES:Astromany
END:VEVENT
BEGIN:VEVENT
DTSTART;VALUE=DATE:20251219
DTEND;VALUE=DATE:20251221
DTSTAMP:20260424T173038
CREATED:20250328T211203Z
LAST-MODIFIED:20250328T211203Z
UID:2945-1766102400-1766275199@md-kayaker.com
SUMMARY:New Moon
DESCRIPTION:
URL:https://md-kayaker.com/event/new-moon-25/
CATEGORIES:Astromany
END:VEVENT
BEGIN:VEVENT
DTSTART;VALUE=DATE:20251211
DTEND;VALUE=DATE:20251213
DTSTAMP:20260424T173038
CREATED:20250328T211202Z
LAST-MODIFIED:20250328T211202Z
UID:2942-1765411200-1765583999@md-kayaker.com
SUMMARY:Third Quarter Moon
DESCRIPTION:
URL:https://md-kayaker.com/event/third-quarter-moon-12/
CATEGORIES:Astromany
END:VEVENT
BEGIN:VEVENT
DTSTART;VALUE=DATE:20251204
DTEND;VALUE=DATE:20251206
DTSTAMP:20260424T173038
CREATED:20250328T211157Z
LAST-MODIFIED:20250328T211157Z
UID:2940-1764806400-1764979199@md-kayaker.com
SUMMARY:Super Full Moon (Bitter)
DESCRIPTION:Brr! The December full moon is also known as the Ice Moon\, Snow Moon\, Long Nights Moon\, and my favorite (from the Cree)\, “Frost Exploding Trees Moon”
URL:https://md-kayaker.com/event/super-full-moon-bitter/
CATEGORIES:Astromany
END:VEVENT
END:VCALENDAR