BEGIN:VCALENDAR
VERSION:2.0
PRODID:-//  Maryland Kayaker - ECPv6.15.20//NONSGML v1.0//EN
CALSCALE:GREGORIAN
METHOD:PUBLISH
X-ORIGINAL-URL:https://md-kayaker.com
X-WR-CALDESC:Events for   Maryland Kayaker
REFRESH-INTERVAL;VALUE=DURATION:PT1H
X-Robots-Tag:noindex
X-PUBLISHED-TTL:PT1H
BEGIN:VTIMEZONE
TZID:America/New_York
BEGIN:DAYLIGHT
TZOFFSETFROM:-0500
TZOFFSETTO:-0400
TZNAME:EDT
DTSTART:20250309T070000
END:DAYLIGHT
BEGIN:STANDARD
TZOFFSETFROM:-0400
TZOFFSETTO:-0500
TZNAME:EST
DTSTART:20251102T060000
END:STANDARD
BEGIN:DAYLIGHT
TZOFFSETFROM:-0500
TZOFFSETTO:-0400
TZNAME:EDT
DTSTART:20260308T070000
END:DAYLIGHT
BEGIN:STANDARD
TZOFFSETFROM:-0400
TZOFFSETTO:-0500
TZNAME:EST
DTSTART:20261101T060000
END:STANDARD
BEGIN:DAYLIGHT
TZOFFSETFROM:-0500
TZOFFSETTO:-0400
TZNAME:EDT
DTSTART:20270314T070000
END:DAYLIGHT
BEGIN:STANDARD
TZOFFSETFROM:-0400
TZOFFSETTO:-0500
TZNAME:EST
DTSTART:20271107T060000
END:STANDARD
BEGIN:DAYLIGHT
TZOFFSETFROM:-0500
TZOFFSETTO:-0400
TZNAME:EDT
DTSTART:20280312T070000
END:DAYLIGHT
BEGIN:STANDARD
TZOFFSETFROM:-0400
TZOFFSETTO:-0500
TZNAME:EST
DTSTART:20281105T060000
END:STANDARD
END:VTIMEZONE
BEGIN:VEVENT
DTSTART;VALUE=DATE:20261221
DTEND;VALUE=DATE:20261223
DTSTAMP:20260424T231453
CREATED:20250328T212100Z
LAST-MODIFIED:20250328T212100Z
UID:3085-1797811200-1797983999@md-kayaker.com
SUMMARY:December Solstice
DESCRIPTION:
URL:https://md-kayaker.com/event/december-solstice-2/
CATEGORIES:Astromany
END:VEVENT
BEGIN:VEVENT
DTSTART;VALUE=DATE:20261223
DTEND;VALUE=DATE:20261225
DTSTAMP:20260424T231453
CREATED:20250328T212101Z
LAST-MODIFIED:20250328T212101Z
UID:3086-1797984000-1798156799@md-kayaker.com
SUMMARY:Full Moon
DESCRIPTION:
URL:https://md-kayaker.com/event/full-moon-25/
CATEGORIES:Astromany
END:VEVENT
BEGIN:VEVENT
DTSTART;VALUE=DATE:20261230
DTEND;VALUE=DATE:20270101
DTSTAMP:20260424T231453
CREATED:20250328T212111Z
LAST-MODIFIED:20250328T212111Z
UID:3090-1798588800-1798761599@md-kayaker.com
SUMMARY:Third Quarter Moon
DESCRIPTION:
URL:https://md-kayaker.com/event/third-quarter-moon-25/
CATEGORIES:Astromany
END:VEVENT
BEGIN:VEVENT
DTSTART;VALUE=DATE:20270107
DTEND;VALUE=DATE:20270109
DTSTAMP:20260424T231453
CREATED:20250328T212120Z
LAST-MODIFIED:20250328T212120Z
UID:3094-1799280000-1799452799@md-kayaker.com
SUMMARY:New Moon
DESCRIPTION:
URL:https://md-kayaker.com/event/new-moon-38/
CATEGORIES:Astromany
END:VEVENT
BEGIN:VEVENT
DTSTART;VALUE=DATE:20270115
DTEND;VALUE=DATE:20270117
DTSTAMP:20260424T231453
CREATED:20250328T212121Z
LAST-MODIFIED:20250328T212121Z
UID:3095-1799971200-1800143999@md-kayaker.com
SUMMARY:First Quarter Moon
DESCRIPTION:
URL:https://md-kayaker.com/event/first-quarter-moon-38/
CATEGORIES:Astromany
END:VEVENT
BEGIN:VEVENT
DTSTART;VALUE=DATE:20270122
DTEND;VALUE=DATE:20270124
DTSTAMP:20260424T231453
CREATED:20250328T212121Z
LAST-MODIFIED:20250328T212121Z
UID:3097-1800576000-1800748799@md-kayaker.com
SUMMARY:Full Moon
DESCRIPTION:
URL:https://md-kayaker.com/event/full-moon-26/
CATEGORIES:Astromany
END:VEVENT
BEGIN:VEVENT
DTSTART;VALUE=DATE:20270129
DTEND;VALUE=DATE:20270131
DTSTAMP:20260424T231453
CREATED:20250328T212127Z
LAST-MODIFIED:20250328T212127Z
UID:3098-1801180800-1801353599@md-kayaker.com
SUMMARY:Third Quarter Moon
DESCRIPTION:
URL:https://md-kayaker.com/event/third-quarter-moon-26/
CATEGORIES:Astromany
END:VEVENT
BEGIN:VEVENT
DTSTART;VALUE=DATE:20270206
DTEND;VALUE=DATE:20270208
DTSTAMP:20260424T231453
CREATED:20250328T212128Z
LAST-MODIFIED:20250328T212128Z
UID:3102-1801872000-1802044799@md-kayaker.com
SUMMARY:New Moon
DESCRIPTION:
URL:https://md-kayaker.com/event/new-moon-39/
CATEGORIES:Astromany
END:VEVENT
BEGIN:VEVENT
DTSTART;VALUE=DATE:20270214
DTEND;VALUE=DATE:20270216
DTSTAMP:20260424T231453
CREATED:20250328T212138Z
LAST-MODIFIED:20250328T212138Z
UID:3106-1802563200-1802735999@md-kayaker.com
SUMMARY:First Quarter Moon
DESCRIPTION:
URL:https://md-kayaker.com/event/first-quarter-moon-39/
CATEGORIES:Astromany
END:VEVENT
BEGIN:VEVENT
DTSTART;VALUE=DATE:20270220
DTEND;VALUE=DATE:20270222
DTSTAMP:20260424T231453
CREATED:20250328T212148Z
LAST-MODIFIED:20250328T212148Z
UID:3108-1803081600-1803254399@md-kayaker.com
SUMMARY:Full Moon
DESCRIPTION:
URL:https://md-kayaker.com/event/full-moon-27/
CATEGORIES:Astromany
END:VEVENT
BEGIN:VEVENT
DTSTART;VALUE=DATE:20270228
DTEND;VALUE=DATE:20270302
DTSTAMP:20260424T231453
CREATED:20250328T212148Z
LAST-MODIFIED:20250328T212148Z
UID:3110-1803772800-1803945599@md-kayaker.com
SUMMARY:Third Quarter Moon
DESCRIPTION:
URL:https://md-kayaker.com/event/third-quarter-moon-27/
CATEGORIES:Astromany
END:VEVENT
BEGIN:VEVENT
DTSTART;VALUE=DATE:20270308
DTEND;VALUE=DATE:20270310
DTSTAMP:20260424T231453
CREATED:20250328T212148Z
LAST-MODIFIED:20250328T212148Z
UID:3111-1804464000-1804636799@md-kayaker.com
SUMMARY:New Moon
DESCRIPTION:
URL:https://md-kayaker.com/event/new-moon-40/
CATEGORIES:Astromany
END:VEVENT
BEGIN:VEVENT
DTSTART;VALUE=DATE:20270315
DTEND;VALUE=DATE:20270317
DTSTAMP:20260424T231453
CREATED:20250328T212148Z
LAST-MODIFIED:20250328T212148Z
UID:3112-1805068800-1805241599@md-kayaker.com
SUMMARY:First Quarter Moon
DESCRIPTION:
URL:https://md-kayaker.com/event/first-quarter-moon-40/
CATEGORIES:Astromany
END:VEVENT
BEGIN:VEVENT
DTSTART;VALUE=DATE:20270320
DTEND;VALUE=DATE:20270322
DTSTAMP:20260424T231453
CREATED:20250328T212156Z
LAST-MODIFIED:20250328T212156Z
UID:3115-1805500800-1805673599@md-kayaker.com
SUMMARY:March Equinox
DESCRIPTION:
URL:https://md-kayaker.com/event/march-equinox-3/
CATEGORIES:Astromany
END:VEVENT
BEGIN:VEVENT
DTSTART;VALUE=DATE:20270322
DTEND;VALUE=DATE:20270324
DTSTAMP:20260424T231453
CREATED:20250328T212156Z
LAST-MODIFIED:20250328T212156Z
UID:3117-1805673600-1805846399@md-kayaker.com
SUMMARY:Full Moon
DESCRIPTION:
URL:https://md-kayaker.com/event/full-moon-28/
CATEGORIES:Astromany
END:VEVENT
BEGIN:VEVENT
DTSTART;VALUE=DATE:20270329
DTEND;VALUE=DATE:20270331
DTSTAMP:20260424T231453
CREATED:20250328T212206Z
LAST-MODIFIED:20250328T212206Z
UID:3119-1806278400-1806451199@md-kayaker.com
SUMMARY:Third Quarter Moon
DESCRIPTION:
URL:https://md-kayaker.com/event/third-quarter-moon-28/
CATEGORIES:Astromany
END:VEVENT
BEGIN:VEVENT
DTSTART;VALUE=DATE:20270406
DTEND;VALUE=DATE:20270408
DTSTAMP:20260424T231453
CREATED:20250328T212206Z
LAST-MODIFIED:20250328T212206Z
UID:3121-1806969600-1807142399@md-kayaker.com
SUMMARY:New Moon
DESCRIPTION:
URL:https://md-kayaker.com/event/new-moon-41/
CATEGORIES:Astromany
END:VEVENT
BEGIN:VEVENT
DTSTART;VALUE=DATE:20270413
DTEND;VALUE=DATE:20270415
DTSTAMP:20260424T231453
CREATED:20250328T212206Z
LAST-MODIFIED:20250328T212206Z
UID:3122-1807574400-1807747199@md-kayaker.com
SUMMARY:First Quarter Moon
DESCRIPTION:
URL:https://md-kayaker.com/event/first-quarter-moon-41/
CATEGORIES:Astromany
END:VEVENT
BEGIN:VEVENT
DTSTART;VALUE=DATE:20270420
DTEND;VALUE=DATE:20270422
DTSTAMP:20260424T231453
CREATED:20250328T212216Z
LAST-MODIFIED:20250328T212216Z
UID:3125-1808179200-1808351999@md-kayaker.com
SUMMARY:Full Moon
DESCRIPTION:
URL:https://md-kayaker.com/event/full-moon-29/
CATEGORIES:Astromany
END:VEVENT
BEGIN:VEVENT
DTSTART;VALUE=DATE:20270428
DTEND;VALUE=DATE:20270430
DTSTAMP:20260424T231453
CREATED:20250328T212219Z
LAST-MODIFIED:20250328T212219Z
UID:3128-1808870400-1809043199@md-kayaker.com
SUMMARY:Third Quarter Moon
DESCRIPTION:
URL:https://md-kayaker.com/event/third-quarter-moon-29/
CATEGORIES:Astromany
END:VEVENT
BEGIN:VEVENT
DTSTART;VALUE=DATE:20270506
DTEND;VALUE=DATE:20270508
DTSTAMP:20260424T231453
CREATED:20250328T212229Z
LAST-MODIFIED:20250328T212229Z
UID:3134-1809561600-1809734399@md-kayaker.com
SUMMARY:New Moon
DESCRIPTION:
URL:https://md-kayaker.com/event/new-moon-42/
CATEGORIES:Astromany
END:VEVENT
BEGIN:VEVENT
DTSTART;VALUE=DATE:20270513
DTEND;VALUE=DATE:20270515
DTSTAMP:20260424T231453
CREATED:20250328T212229Z
LAST-MODIFIED:20250328T212229Z
UID:3135-1810166400-1810339199@md-kayaker.com
SUMMARY:First Quarter Moon
DESCRIPTION:
URL:https://md-kayaker.com/event/first-quarter-moon-42/
CATEGORIES:Astromany
END:VEVENT
BEGIN:VEVENT
DTSTART;VALUE=DATE:20270520
DTEND;VALUE=DATE:20270522
DTSTAMP:20260424T231453
CREATED:20250328T212230Z
LAST-MODIFIED:20250328T212230Z
UID:3137-1810771200-1810943999@md-kayaker.com
SUMMARY:Full Moon
DESCRIPTION:
URL:https://md-kayaker.com/event/full-moon-30/
CATEGORIES:Astromany
END:VEVENT
BEGIN:VEVENT
DTSTART;VALUE=DATE:20270528
DTEND;VALUE=DATE:20270530
DTSTAMP:20260424T231453
CREATED:20250328T212239Z
LAST-MODIFIED:20250328T212239Z
UID:3138-1811462400-1811635199@md-kayaker.com
SUMMARY:Third Quarter Moon
DESCRIPTION:
URL:https://md-kayaker.com/event/third-quarter-moon-30/
CATEGORIES:Astromany
END:VEVENT
BEGIN:VEVENT
DTSTART;VALUE=DATE:20270604
DTEND;VALUE=DATE:20270606
DTSTAMP:20260424T231453
CREATED:20250328T212240Z
LAST-MODIFIED:20250328T212240Z
UID:3141-1812067200-1812239999@md-kayaker.com
SUMMARY:New Moon
DESCRIPTION:
URL:https://md-kayaker.com/event/new-moon-43/
CATEGORIES:Astromany
END:VEVENT
BEGIN:VEVENT
DTSTART;VALUE=DATE:20270611
DTEND;VALUE=DATE:20270613
DTSTAMP:20260424T231453
CREATED:20250328T212249Z
LAST-MODIFIED:20250328T212249Z
UID:3143-1812672000-1812844799@md-kayaker.com
SUMMARY:First Quarter Moon
DESCRIPTION:
URL:https://md-kayaker.com/event/first-quarter-moon-43/
CATEGORIES:Astromany
END:VEVENT
BEGIN:VEVENT
DTSTART;VALUE=DATE:20270618
DTEND;VALUE=DATE:20270620
DTSTAMP:20260424T231453
CREATED:20250328T212249Z
LAST-MODIFIED:20250328T212249Z
UID:3145-1813276800-1813449599@md-kayaker.com
SUMMARY:Full Moon
DESCRIPTION:
URL:https://md-kayaker.com/event/full-moon-31/
CATEGORIES:Astromany
END:VEVENT
BEGIN:VEVENT
DTSTART;VALUE=DATE:20270621
DTEND;VALUE=DATE:20270623
DTSTAMP:20260424T231453
CREATED:20250328T212259Z
LAST-MODIFIED:20250328T212259Z
UID:3150-1813536000-1813708799@md-kayaker.com
SUMMARY:June Solstice
DESCRIPTION:
URL:https://md-kayaker.com/event/june-solstice-3/
CATEGORIES:Astromany
END:VEVENT
BEGIN:VEVENT
DTSTART;VALUE=DATE:20270627
DTEND;VALUE=DATE:20270629
DTSTAMP:20260424T231453
CREATED:20250328T212300Z
LAST-MODIFIED:20250328T212300Z
UID:3151-1814054400-1814227199@md-kayaker.com
SUMMARY:Third Quarter Moon
DESCRIPTION:
URL:https://md-kayaker.com/event/third-quarter-moon-31/
CATEGORIES:Astromany
END:VEVENT
BEGIN:VEVENT
DTSTART;VALUE=DATE:20270703
DTEND;VALUE=DATE:20270705
DTSTAMP:20260424T231453
CREATED:20250328T212300Z
LAST-MODIFIED:20250328T212300Z
UID:3152-1814572800-1814745599@md-kayaker.com
SUMMARY:New Moon
DESCRIPTION:
URL:https://md-kayaker.com/event/new-moon-44/
CATEGORIES:Astromany
END:VEVENT
END:VCALENDAR