BEGIN:VCALENDAR
VERSION:2.0
PRODID:-//  Maryland Kayaker - ECPv6.15.20//NONSGML v1.0//EN
CALSCALE:GREGORIAN
METHOD:PUBLISH
X-WR-CALNAME:  Maryland Kayaker
X-ORIGINAL-URL:https://md-kayaker.com
X-WR-CALDESC:Events for   Maryland Kayaker
REFRESH-INTERVAL;VALUE=DURATION:PT1H
X-Robots-Tag:noindex
X-PUBLISHED-TTL:PT1H
BEGIN:VTIMEZONE
TZID:America/New_York
BEGIN:DAYLIGHT
TZOFFSETFROM:-0500
TZOFFSETTO:-0400
TZNAME:EDT
DTSTART:20240310T070000
END:DAYLIGHT
BEGIN:STANDARD
TZOFFSETFROM:-0400
TZOFFSETTO:-0500
TZNAME:EST
DTSTART:20241103T060000
END:STANDARD
BEGIN:DAYLIGHT
TZOFFSETFROM:-0500
TZOFFSETTO:-0400
TZNAME:EDT
DTSTART:20250309T070000
END:DAYLIGHT
BEGIN:STANDARD
TZOFFSETFROM:-0400
TZOFFSETTO:-0500
TZNAME:EST
DTSTART:20251102T060000
END:STANDARD
BEGIN:DAYLIGHT
TZOFFSETFROM:-0500
TZOFFSETTO:-0400
TZNAME:EDT
DTSTART:20260308T070000
END:DAYLIGHT
BEGIN:STANDARD
TZOFFSETFROM:-0400
TZOFFSETTO:-0500
TZNAME:EST
DTSTART:20261101T060000
END:STANDARD
BEGIN:DAYLIGHT
TZOFFSETFROM:-0500
TZOFFSETTO:-0400
TZNAME:EDT
DTSTART:20270314T070000
END:DAYLIGHT
BEGIN:STANDARD
TZOFFSETFROM:-0400
TZOFFSETTO:-0500
TZNAME:EST
DTSTART:20271107T060000
END:STANDARD
END:VTIMEZONE
BEGIN:VEVENT
DTSTART;VALUE=DATE:20260118
DTEND;VALUE=DATE:20260120
DTSTAMP:20260424T235937
CREATED:20250328T211640Z
LAST-MODIFIED:20250328T211640Z
UID:2979-1768694400-1768867199@md-kayaker.com
SUMMARY:New Moon
DESCRIPTION:
URL:https://md-kayaker.com/event/new-moon-26/
CATEGORIES:Astromany
END:VEVENT
BEGIN:VEVENT
DTSTART;VALUE=DATE:20260110
DTEND;VALUE=DATE:20260112
DTSTAMP:20260424T235937
CREATED:20250328T211640Z
LAST-MODIFIED:20250328T211640Z
UID:2978-1768003200-1768175999@md-kayaker.com
SUMMARY:Third Quarter Moon
DESCRIPTION:
URL:https://md-kayaker.com/event/third-quarter-moon-13/
CATEGORIES:Astromany
END:VEVENT
BEGIN:VEVENT
DTSTART;VALUE=DATE:20260106
DTEND;VALUE=DATE:20260108
DTSTAMP:20260424T235937
CREATED:20250328T211640Z
LAST-MODIFIED:20250328T211640Z
UID:2977-1767657600-1767830399@md-kayaker.com
SUMMARY:Three Kings Day
DESCRIPTION:
URL:https://md-kayaker.com/event/three-kings-day-4/
CATEGORIES:Holiday
END:VEVENT
BEGIN:VEVENT
DTSTART;VALUE=DATE:20260103
DTEND;VALUE=DATE:20260105
DTSTAMP:20260424T235937
CREATED:20250328T211640Z
LAST-MODIFIED:20250328T211640Z
UID:2976-1767398400-1767571199@md-kayaker.com
SUMMARY:Full Moon
DESCRIPTION:
URL:https://md-kayaker.com/event/full-moon-13/
CATEGORIES:Astromany
END:VEVENT
BEGIN:VEVENT
DTSTART;VALUE=DATE:20260101
DTEND;VALUE=DATE:20260103
DTSTAMP:20260424T235937
CREATED:20250328T211639Z
LAST-MODIFIED:20250328T211639Z
UID:2975-1767225600-1767398399@md-kayaker.com
SUMMARY:New Year's Day
DESCRIPTION:
URL:https://md-kayaker.com/event/new-years-day-3/
CATEGORIES:Holiday
END:VEVENT
BEGIN:VEVENT
DTSTART;VALUE=DATE:20251231
DTEND;VALUE=DATE:20260102
DTSTAMP:20260424T235937
CREATED:20250328T211630Z
LAST-MODIFIED:20250328T211630Z
UID:2974-1767139200-1767311999@md-kayaker.com
SUMMARY:New Year's Eve
DESCRIPTION:
URL:https://md-kayaker.com/event/new-years-eve-2/
CATEGORIES:Holiday
END:VEVENT
BEGIN:VEVENT
DTSTART;VALUE=DATE:20251227
DTEND;VALUE=DATE:20251229
DTSTAMP:20260424T235937
CREATED:20250328T211630Z
LAST-MODIFIED:20250328T211630Z
UID:2971-1766793600-1766966399@md-kayaker.com
SUMMARY:First Quarter Moon
DESCRIPTION:
URL:https://md-kayaker.com/event/first-quarter-moon-25/
CATEGORIES:Astromany
END:VEVENT
BEGIN:VEVENT
DTSTART;VALUE=DATE:20251226
DTEND;VALUE=DATE:20251228
DTSTAMP:20260424T235937
CREATED:20250328T211620Z
LAST-MODIFIED:20250328T211620Z
UID:2968-1766707200-1766879999@md-kayaker.com
SUMMARY:Boxing Day
DESCRIPTION:
URL:https://md-kayaker.com/event/boxing-day-2/
CATEGORIES:Holiday
END:VEVENT
BEGIN:VEVENT
DTSTART;VALUE=DATE:20251225
DTEND;VALUE=DATE:20251227
DTSTAMP:20260424T235937
CREATED:20250328T211620Z
LAST-MODIFIED:20250328T211620Z
UID:2967-1766620800-1766793599@md-kayaker.com
SUMMARY:Christmas Day
DESCRIPTION:
URL:https://md-kayaker.com/event/christmas-day-2/
CATEGORIES:Holiday
END:VEVENT
BEGIN:VEVENT
DTSTART;VALUE=DATE:20251224
DTEND;VALUE=DATE:20251226
DTSTAMP:20260424T235937
CREATED:20250328T211620Z
LAST-MODIFIED:20250328T211620Z
UID:2966-1766534400-1766707199@md-kayaker.com
SUMMARY:Christmas Eve
DESCRIPTION:
URL:https://md-kayaker.com/event/christmas-eve-2/
CATEGORIES:Holiday
END:VEVENT
BEGIN:VEVENT
DTSTART;VALUE=DATE:20251221
DTEND;VALUE=DATE:20251223
DTSTAMP:20260424T235937
CREATED:20250328T211219Z
LAST-MODIFIED:20250328T211219Z
UID:2948-1766275200-1766447999@md-kayaker.com
SUMMARY:Winter Solstice
DESCRIPTION:
URL:https://md-kayaker.com/event/winter-solstice-2/
CATEGORIES:Holiday
END:VEVENT
BEGIN:VEVENT
DTSTART;VALUE=DATE:20251221
DTEND;VALUE=DATE:20251223
DTSTAMP:20260424T235937
CREATED:20250328T211218Z
LAST-MODIFIED:20250328T211218Z
UID:2947-1766275200-1766447999@md-kayaker.com
SUMMARY:First Day of Winter
DESCRIPTION:
URL:https://md-kayaker.com/event/first-day-of-winter-2/
CATEGORIES:Holiday
END:VEVENT
BEGIN:VEVENT
DTSTART;VALUE=DATE:20251219
DTEND;VALUE=DATE:20251221
DTSTAMP:20260424T235937
CREATED:20250328T211203Z
LAST-MODIFIED:20250328T211203Z
UID:2945-1766102400-1766275199@md-kayaker.com
SUMMARY:New Moon
DESCRIPTION:
URL:https://md-kayaker.com/event/new-moon-25/
CATEGORIES:Astromany
END:VEVENT
BEGIN:VEVENT
DTSTART;VALUE=DATE:20251211
DTEND;VALUE=DATE:20251213
DTSTAMP:20260424T235937
CREATED:20250328T211202Z
LAST-MODIFIED:20250328T211202Z
UID:2942-1765411200-1765583999@md-kayaker.com
SUMMARY:Third Quarter Moon
DESCRIPTION:
URL:https://md-kayaker.com/event/third-quarter-moon-12/
CATEGORIES:Astromany
END:VEVENT
BEGIN:VEVENT
DTSTART;VALUE=DATE:20251207
DTEND;VALUE=DATE:20251209
DTSTAMP:20260424T235937
CREATED:20250328T211202Z
LAST-MODIFIED:20250328T211202Z
UID:2941-1765065600-1765238399@md-kayaker.com
SUMMARY:Pearl Harbor Day
DESCRIPTION:
URL:https://md-kayaker.com/event/pearl-harbor-day-2/
CATEGORIES:Holiday
END:VEVENT
BEGIN:VEVENT
DTSTART;VALUE=DATE:20251204
DTEND;VALUE=DATE:20251206
DTSTAMP:20260424T235937
CREATED:20250328T211157Z
LAST-MODIFIED:20250328T211157Z
UID:2940-1764806400-1764979199@md-kayaker.com
SUMMARY:Super Full Moon (Bitter)
DESCRIPTION:Brr! The December full moon is also known as the Ice Moon\, Snow Moon\, Long Nights Moon\, and my favorite (from the Cree)\, “Frost Exploding Trees Moon”
URL:https://md-kayaker.com/event/super-full-moon-bitter/
CATEGORIES:Astromany
END:VEVENT
END:VCALENDAR