BEGIN:VCALENDAR
VERSION:2.0
PRODID:-//  Maryland Kayaker - ECPv6.15.20//NONSGML v1.0//EN
CALSCALE:GREGORIAN
METHOD:PUBLISH
X-WR-CALNAME:  Maryland Kayaker
X-ORIGINAL-URL:https://md-kayaker.com
X-WR-CALDESC:Events for   Maryland Kayaker
REFRESH-INTERVAL;VALUE=DURATION:PT1H
X-Robots-Tag:noindex
X-PUBLISHED-TTL:PT1H
BEGIN:VTIMEZONE
TZID:America/New_York
BEGIN:DAYLIGHT
TZOFFSETFROM:-0500
TZOFFSETTO:-0400
TZNAME:EDT
DTSTART:20250309T070000
END:DAYLIGHT
BEGIN:STANDARD
TZOFFSETFROM:-0400
TZOFFSETTO:-0500
TZNAME:EST
DTSTART:20251102T060000
END:STANDARD
BEGIN:DAYLIGHT
TZOFFSETFROM:-0500
TZOFFSETTO:-0400
TZNAME:EDT
DTSTART:20260308T070000
END:DAYLIGHT
BEGIN:STANDARD
TZOFFSETFROM:-0400
TZOFFSETTO:-0500
TZNAME:EST
DTSTART:20261101T060000
END:STANDARD
BEGIN:DAYLIGHT
TZOFFSETFROM:-0500
TZOFFSETTO:-0400
TZNAME:EDT
DTSTART:20270314T070000
END:DAYLIGHT
BEGIN:STANDARD
TZOFFSETFROM:-0400
TZOFFSETTO:-0500
TZNAME:EST
DTSTART:20271107T060000
END:STANDARD
BEGIN:DAYLIGHT
TZOFFSETFROM:-0500
TZOFFSETTO:-0400
TZNAME:EDT
DTSTART:20280312T070000
END:DAYLIGHT
BEGIN:STANDARD
TZOFFSETFROM:-0400
TZOFFSETTO:-0500
TZNAME:EST
DTSTART:20281105T060000
END:STANDARD
END:VTIMEZONE
BEGIN:VEVENT
DTSTART;VALUE=DATE:20261026
DTEND;VALUE=DATE:20261028
DTSTAMP:20260424T233917
CREATED:20250328T212025Z
LAST-MODIFIED:20250328T212025Z
UID:3063-1792972800-1793145599@md-kayaker.com
SUMMARY:Full Moon
DESCRIPTION:
URL:https://md-kayaker.com/event/full-moon-23/
CATEGORIES:Astromany
END:VEVENT
BEGIN:VEVENT
DTSTART;VALUE=DATE:20261031
DTEND;VALUE=DATE:20261102
DTSTAMP:20260424T233917
CREATED:20250328T212025Z
LAST-MODIFIED:20250328T212025Z
UID:3064-1793404800-1793577599@md-kayaker.com
SUMMARY:Halloween
DESCRIPTION:
URL:https://md-kayaker.com/event/halloween-3/
CATEGORIES:Holiday
END:VEVENT
BEGIN:VEVENT
DTSTART;VALUE=DATE:20261101
DTEND;VALUE=DATE:20261103
DTSTAMP:20260424T233917
CREATED:20250328T212026Z
LAST-MODIFIED:20250328T212026Z
UID:3065-1793491200-1793663999@md-kayaker.com
SUMMARY:Daylight Saving Time Ends
DESCRIPTION:
URL:https://md-kayaker.com/event/daylight-saving-time-ends-3/
CATEGORIES:Holiday
END:VEVENT
BEGIN:VEVENT
DTSTART;VALUE=DATE:20261101
DTEND;VALUE=DATE:20261103
DTSTAMP:20260424T233917
CREATED:20250328T212034Z
LAST-MODIFIED:20250328T212034Z
UID:3067-1793491200-1793663999@md-kayaker.com
SUMMARY:All Saint's Day
DESCRIPTION:
URL:https://md-kayaker.com/event/all-saints-day-3/
CATEGORIES:Holiday
END:VEVENT
BEGIN:VEVENT
DTSTART;VALUE=DATE:20261101
DTEND;VALUE=DATE:20261103
DTSTAMP:20260424T233917
CREATED:20250328T212034Z
LAST-MODIFIED:20250328T212034Z
UID:3068-1793491200-1793663999@md-kayaker.com
SUMMARY:Samhain
DESCRIPTION:Samhain (Sow-inn) is the word for November in Gaelic.  The Festival of Samhain is a celebration of the end of the harvest season.  It begins the dark half of the year.  It is a time when the deceased are remembered and honored\, the autumn harvest is reaped\, and the preparation for winter begins.  Samhain is also consider the The Celtic New Year.\nHerbs and flowers associated with Samhain: acorn\, oak\, apple\, arborvitae\, chrysanthemum\, hazel\, pumpkin\, sage\, thistle\, and wormwood. \nIncense associated with Samhain: apple\, nutmeg\, sage\, and mint. \nColors associated with Samhain: yellow\, orange\, brown\, black. \nGemstones associated with Samhain: turquoise\, sodalite\, citrine\, moonstones and hematite. \nDecorations associated with Samhain: pumpkins\, apples\, autumn leaves and flowers\, winter squash\, and photos and objects of deceased loved ones. \nFoods associated with Samhain: apples\, cider\, nuts\, mulled wine\, pumpkin\, cranberry\, and tea.
URL:https://md-kayaker.com/event/samhain-4/
CATEGORIES:Holiday
END:VEVENT
BEGIN:VEVENT
DTSTART;VALUE=DATE:20261101
DTEND;VALUE=DATE:20261103
DTSTAMP:20260424T233917
CREATED:20250328T212034Z
LAST-MODIFIED:20250328T212034Z
UID:3069-1793491200-1793663999@md-kayaker.com
SUMMARY:Third Quarter Moon
DESCRIPTION:
URL:https://md-kayaker.com/event/third-quarter-moon-23/
CATEGORIES:Astromany
END:VEVENT
BEGIN:VEVENT
DTSTART;VALUE=DATE:20261102
DTEND;VALUE=DATE:20261104
DTSTAMP:20260424T233917
CREATED:20250328T212035Z
LAST-MODIFIED:20250328T212035Z
UID:3070-1793577600-1793750399@md-kayaker.com
SUMMARY:All Soul's Day
DESCRIPTION:
URL:https://md-kayaker.com/event/all-souls-day-3/
CATEGORIES:Holiday
END:VEVENT
BEGIN:VEVENT
DTSTART;VALUE=DATE:20261103
DTEND;VALUE=DATE:20261105
DTSTAMP:20260424T233917
CREATED:20250328T212035Z
LAST-MODIFIED:20250328T212035Z
UID:3071-1793664000-1793836799@md-kayaker.com
SUMMARY:Election Day
DESCRIPTION:
URL:https://md-kayaker.com/event/election-day-3/
CATEGORIES:Holiday
END:VEVENT
BEGIN:VEVENT
DTSTART;VALUE=DATE:20261109
DTEND;VALUE=DATE:20261111
DTSTAMP:20260424T233917
CREATED:20250328T212044Z
LAST-MODIFIED:20250328T212044Z
UID:3072-1794182400-1794355199@md-kayaker.com
SUMMARY:New Moon
DESCRIPTION:
URL:https://md-kayaker.com/event/new-moon-36/
CATEGORIES:Astromany
END:VEVENT
BEGIN:VEVENT
DTSTART;VALUE=DATE:20261111
DTEND;VALUE=DATE:20261113
DTSTAMP:20260424T233917
CREATED:20250328T212044Z
LAST-MODIFIED:20250328T212044Z
UID:3073-1794355200-1794527999@md-kayaker.com
SUMMARY:Veteran's Day
DESCRIPTION:
URL:https://md-kayaker.com/event/veterans-day-3/
CATEGORIES:Holiday
END:VEVENT
BEGIN:VEVENT
DTSTART;VALUE=DATE:20261117
DTEND;VALUE=DATE:20261119
DTSTAMP:20260424T233917
CREATED:20250328T212045Z
LAST-MODIFIED:20250328T212045Z
UID:3074-1794873600-1795046399@md-kayaker.com
SUMMARY:First Quarter Moon
DESCRIPTION:
URL:https://md-kayaker.com/event/first-quarter-moon-36/
CATEGORIES:Astromany
END:VEVENT
BEGIN:VEVENT
DTSTART;VALUE=DATE:20261124
DTEND;VALUE=DATE:20261126
DTSTAMP:20260424T233917
CREATED:20250328T212045Z
LAST-MODIFIED:20250328T212045Z
UID:3075-1795478400-1795651199@md-kayaker.com
SUMMARY:Full Moon
DESCRIPTION:
URL:https://md-kayaker.com/event/full-moon-24/
CATEGORIES:Astromany
END:VEVENT
BEGIN:VEVENT
DTSTART;VALUE=DATE:20261126
DTEND;VALUE=DATE:20261128
DTSTAMP:20260424T233917
CREATED:20250328T212045Z
LAST-MODIFIED:20250328T212045Z
UID:3076-1795651200-1795823999@md-kayaker.com
SUMMARY:Thanksgiving Day
DESCRIPTION:
URL:https://md-kayaker.com/event/thanksgiving-day-3/
CATEGORIES:Holiday
END:VEVENT
BEGIN:VEVENT
DTSTART;VALUE=DATE:20261127
DTEND;VALUE=DATE:20261129
DTSTAMP:20260424T233917
CREATED:20250328T212054Z
LAST-MODIFIED:20250328T212054Z
UID:3077-1795737600-1795910399@md-kayaker.com
SUMMARY:Black Friday
DESCRIPTION:
URL:https://md-kayaker.com/event/black-friday-3/
CATEGORIES:Holiday
END:VEVENT
BEGIN:VEVENT
DTSTART;VALUE=DATE:20261201
DTEND;VALUE=DATE:20261203
DTSTAMP:20260424T233917
CREATED:20250328T212054Z
LAST-MODIFIED:20250328T212054Z
UID:3078-1796083200-1796255999@md-kayaker.com
SUMMARY:Third Quarter Moon
DESCRIPTION:
URL:https://md-kayaker.com/event/third-quarter-moon-24/
CATEGORIES:Astromany
END:VEVENT
BEGIN:VEVENT
DTSTART;VALUE=DATE:20261207
DTEND;VALUE=DATE:20261209
DTSTAMP:20260424T233917
CREATED:20250328T212055Z
LAST-MODIFIED:20250328T212055Z
UID:3079-1796601600-1796774399@md-kayaker.com
SUMMARY:Pearl Harbor Day
DESCRIPTION:
URL:https://md-kayaker.com/event/pearl-harbor-day-3/
CATEGORIES:Holiday
END:VEVENT
BEGIN:VEVENT
DTSTART;VALUE=DATE:20261208
DTEND;VALUE=DATE:20261210
DTSTAMP:20260424T233917
CREATED:20250328T212055Z
LAST-MODIFIED:20250328T212055Z
UID:3080-1796688000-1796860799@md-kayaker.com
SUMMARY:New Moon
DESCRIPTION:
URL:https://md-kayaker.com/event/new-moon-37/
CATEGORIES:Astromany
END:VEVENT
BEGIN:VEVENT
DTSTART;VALUE=DATE:20261217
DTEND;VALUE=DATE:20261219
DTSTAMP:20260424T233917
CREATED:20250328T212055Z
LAST-MODIFIED:20250328T212055Z
UID:3081-1797465600-1797638399@md-kayaker.com
SUMMARY:First Quarter Moon
DESCRIPTION:
URL:https://md-kayaker.com/event/first-quarter-moon-37/
CATEGORIES:Astromany
END:VEVENT
BEGIN:VEVENT
DTSTART;VALUE=DATE:20261221
DTEND;VALUE=DATE:20261223
DTSTAMP:20260424T233917
CREATED:20250328T212100Z
LAST-MODIFIED:20250328T212100Z
UID:3083-1797811200-1797983999@md-kayaker.com
SUMMARY:First Day of Winter
DESCRIPTION:
URL:https://md-kayaker.com/event/first-day-of-winter-3/
CATEGORIES:Holiday
END:VEVENT
BEGIN:VEVENT
DTSTART;VALUE=DATE:20261221
DTEND;VALUE=DATE:20261223
DTSTAMP:20260424T233917
CREATED:20250328T212100Z
LAST-MODIFIED:20250328T212100Z
UID:3084-1797811200-1797983999@md-kayaker.com
SUMMARY:Winter Solstice
DESCRIPTION:
URL:https://md-kayaker.com/event/winter-solstice-3/
CATEGORIES:Holiday
END:VEVENT
BEGIN:VEVENT
DTSTART;VALUE=DATE:20261221
DTEND;VALUE=DATE:20261223
DTSTAMP:20260424T233917
CREATED:20250328T212100Z
LAST-MODIFIED:20250328T212100Z
UID:3085-1797811200-1797983999@md-kayaker.com
SUMMARY:December Solstice
DESCRIPTION:
URL:https://md-kayaker.com/event/december-solstice-2/
CATEGORIES:Astromany
END:VEVENT
BEGIN:VEVENT
DTSTART;VALUE=DATE:20261223
DTEND;VALUE=DATE:20261225
DTSTAMP:20260424T233917
CREATED:20250328T212101Z
LAST-MODIFIED:20250328T212101Z
UID:3086-1797984000-1798156799@md-kayaker.com
SUMMARY:Full Moon
DESCRIPTION:
URL:https://md-kayaker.com/event/full-moon-25/
CATEGORIES:Astromany
END:VEVENT
BEGIN:VEVENT
DTSTART;VALUE=DATE:20261224
DTEND;VALUE=DATE:20261226
DTSTAMP:20260424T233917
CREATED:20250328T212101Z
LAST-MODIFIED:20250328T212101Z
UID:3087-1798070400-1798243199@md-kayaker.com
SUMMARY:Christmas Eve
DESCRIPTION:
URL:https://md-kayaker.com/event/christmas-eve-3/
CATEGORIES:Holiday
END:VEVENT
BEGIN:VEVENT
DTSTART;VALUE=DATE:20261225
DTEND;VALUE=DATE:20261227
DTSTAMP:20260424T233917
CREATED:20250328T212110Z
LAST-MODIFIED:20250328T212110Z
UID:3088-1798156800-1798329599@md-kayaker.com
SUMMARY:Christmas Day
DESCRIPTION:
URL:https://md-kayaker.com/event/christmas-day-3/
CATEGORIES:Holiday
END:VEVENT
BEGIN:VEVENT
DTSTART;VALUE=DATE:20261226
DTEND;VALUE=DATE:20261228
DTSTAMP:20260424T233917
CREATED:20250328T212111Z
LAST-MODIFIED:20250328T212111Z
UID:3089-1798243200-1798415999@md-kayaker.com
SUMMARY:Boxing Day
DESCRIPTION:
URL:https://md-kayaker.com/event/boxing-day-3/
CATEGORIES:Holiday
END:VEVENT
BEGIN:VEVENT
DTSTART;VALUE=DATE:20261230
DTEND;VALUE=DATE:20270101
DTSTAMP:20260424T233917
CREATED:20250328T212111Z
LAST-MODIFIED:20250328T212111Z
UID:3090-1798588800-1798761599@md-kayaker.com
SUMMARY:Third Quarter Moon
DESCRIPTION:
URL:https://md-kayaker.com/event/third-quarter-moon-25/
CATEGORIES:Astromany
END:VEVENT
BEGIN:VEVENT
DTSTART;VALUE=DATE:20261231
DTEND;VALUE=DATE:20270102
DTSTAMP:20260424T233917
CREATED:20250328T212111Z
LAST-MODIFIED:20250328T212111Z
UID:3091-1798675200-1798847999@md-kayaker.com
SUMMARY:New Year's Eve
DESCRIPTION:
URL:https://md-kayaker.com/event/new-years-eve-3/
CATEGORIES:Holiday
END:VEVENT
BEGIN:VEVENT
DTSTART;VALUE=DATE:20270101
DTEND;VALUE=DATE:20270103
DTSTAMP:20260424T233917
CREATED:20250328T212111Z
LAST-MODIFIED:20250328T212111Z
UID:3092-1798761600-1798934399@md-kayaker.com
SUMMARY:New Year's Day
DESCRIPTION:
URL:https://md-kayaker.com/event/new-years-day-4/
CATEGORIES:Holiday
END:VEVENT
BEGIN:VEVENT
DTSTART;VALUE=DATE:20270106
DTEND;VALUE=DATE:20270108
DTSTAMP:20260424T233917
CREATED:20250328T212120Z
LAST-MODIFIED:20250328T212120Z
UID:3093-1799193600-1799366399@md-kayaker.com
SUMMARY:Three Kings Day
DESCRIPTION:
URL:https://md-kayaker.com/event/three-kings-day-5/
CATEGORIES:Holiday
END:VEVENT
BEGIN:VEVENT
DTSTART;VALUE=DATE:20270107
DTEND;VALUE=DATE:20270109
DTSTAMP:20260424T233917
CREATED:20250328T212120Z
LAST-MODIFIED:20250328T212120Z
UID:3094-1799280000-1799452799@md-kayaker.com
SUMMARY:New Moon
DESCRIPTION:
URL:https://md-kayaker.com/event/new-moon-38/
CATEGORIES:Astromany
END:VEVENT
END:VCALENDAR